BEGIN:VCALENDAR
VERSION:2.0
PRODID:-//Harney ESD - ECPv6.15.20//NONSGML v1.0//EN
CALSCALE:GREGORIAN
METHOD:PUBLISH
X-WR-CALNAME:Harney ESD
X-ORIGINAL-URL:https://harneyesd.k12.or.us
X-WR-CALDESC:Events for Harney ESD
REFRESH-INTERVAL;VALUE=DURATION:PT1H
X-Robots-Tag:noindex
X-PUBLISHED-TTL:PT1H
BEGIN:VTIMEZONE
TZID:UTC
BEGIN:STANDARD
TZOFFSETFROM:+0000
TZOFFSETTO:+0000
TZNAME:UTC
DTSTART:20250101T000000
END:STANDARD
END:VTIMEZONE
BEGIN:VEVENT
DTSTART;TZID=UTC:20260520T190000
DTEND;TZID=UTC:20260520T200000
DTSTAMP:20260424T115209
CREATED:20220526T115813Z
LAST-MODIFIED:20240621T204426Z
UID:10000623-1779303600-1779307200@harneyesd.k12.or.us
SUMMARY:Double O School Board Meeting
DESCRIPTION:
URL:https://harneyesd.k12.or.us/event/double-o-board-meeting-4/2026-05-20/
LOCATION:Hines\, OR
CATEGORIES:Board Meeting
END:VEVENT
BEGIN:VEVENT
DTSTART;TZID=UTC:20260617T190000
DTEND;TZID=UTC:20260617T200000
DTSTAMP:20260424T115209
CREATED:20220526T115813Z
LAST-MODIFIED:20240621T204426Z
UID:10000624-1781722800-1781726400@harneyesd.k12.or.us
SUMMARY:Double O School Board Meeting
DESCRIPTION:
URL:https://harneyesd.k12.or.us/event/double-o-board-meeting-4/2026-06-17/
LOCATION:Hines\, OR
CATEGORIES:Board Meeting
END:VEVENT
BEGIN:VEVENT
DTSTART;TZID=UTC:20260715T190000
DTEND;TZID=UTC:20260715T200000
DTSTAMP:20260424T115209
CREATED:20220526T115813Z
LAST-MODIFIED:20240621T204426Z
UID:10000625-1784142000-1784145600@harneyesd.k12.or.us
SUMMARY:Double O School Board Meeting
DESCRIPTION:
URL:https://harneyesd.k12.or.us/event/double-o-board-meeting-4/2026-07-15/
LOCATION:Hines\, OR
CATEGORIES:Board Meeting
END:VEVENT
BEGIN:VEVENT
DTSTART;TZID=UTC:20260819T190000
DTEND;TZID=UTC:20260819T200000
DTSTAMP:20260424T115209
CREATED:20220526T115813Z
LAST-MODIFIED:20240621T204426Z
UID:10000626-1787166000-1787169600@harneyesd.k12.or.us
SUMMARY:Double O School Board Meeting
DESCRIPTION:
URL:https://harneyesd.k12.or.us/event/double-o-board-meeting-4/2026-08-19/
LOCATION:Hines\, OR
CATEGORIES:Board Meeting
END:VEVENT
BEGIN:VEVENT
DTSTART;TZID=UTC:20260916T190000
DTEND;TZID=UTC:20260916T200000
DTSTAMP:20260424T115209
CREATED:20220526T115813Z
LAST-MODIFIED:20240621T204426Z
UID:10000627-1789585200-1789588800@harneyesd.k12.or.us
SUMMARY:Double O School Board Meeting
DESCRIPTION:
URL:https://harneyesd.k12.or.us/event/double-o-board-meeting-4/2026-09-16/
LOCATION:Hines\, OR
CATEGORIES:Board Meeting
END:VEVENT
BEGIN:VEVENT
DTSTART;TZID=UTC:20261021T190000
DTEND;TZID=UTC:20261021T200000
DTSTAMP:20260424T115209
CREATED:20220526T115813Z
LAST-MODIFIED:20240621T204426Z
UID:10000628-1792609200-1792612800@harneyesd.k12.or.us
SUMMARY:Double O School Board Meeting
DESCRIPTION:
URL:https://harneyesd.k12.or.us/event/double-o-board-meeting-4/2026-10-21/
LOCATION:Hines\, OR
CATEGORIES:Board Meeting
END:VEVENT
BEGIN:VEVENT
DTSTART;TZID=UTC:20261118T190000
DTEND;TZID=UTC:20261118T200000
DTSTAMP:20260424T115209
CREATED:20220526T115813Z
LAST-MODIFIED:20240621T204426Z
UID:10000629-1795028400-1795032000@harneyesd.k12.or.us
SUMMARY:Double O School Board Meeting
DESCRIPTION:
URL:https://harneyesd.k12.or.us/event/double-o-board-meeting-4/2026-11-18/
LOCATION:Hines\, OR
CATEGORIES:Board Meeting
END:VEVENT
BEGIN:VEVENT
DTSTART;TZID=UTC:20261216T190000
DTEND;TZID=UTC:20261216T200000
DTSTAMP:20260424T115209
CREATED:20220526T115813Z
LAST-MODIFIED:20240621T204426Z
UID:10000630-1797447600-1797451200@harneyesd.k12.or.us
SUMMARY:Double O School Board Meeting
DESCRIPTION:
URL:https://harneyesd.k12.or.us/event/double-o-board-meeting-4/2026-12-16/
LOCATION:Hines\, OR
CATEGORIES:Board Meeting
END:VEVENT
BEGIN:VEVENT
DTSTART;TZID=UTC:20270120T190000
DTEND;TZID=UTC:20270120T200000
DTSTAMP:20260424T115209
CREATED:20220526T115813Z
LAST-MODIFIED:20240621T204426Z
UID:10000631-1800471600-1800475200@harneyesd.k12.or.us
SUMMARY:Double O School Board Meeting
DESCRIPTION:
URL:https://harneyesd.k12.or.us/event/double-o-board-meeting-4/2027-01-20/
LOCATION:Hines\, OR
CATEGORIES:Board Meeting
END:VEVENT
BEGIN:VEVENT
DTSTART;TZID=UTC:20270217T190000
DTEND;TZID=UTC:20270217T200000
DTSTAMP:20260424T115209
CREATED:20220526T115813Z
LAST-MODIFIED:20240621T204426Z
UID:10000632-1802890800-1802894400@harneyesd.k12.or.us
SUMMARY:Double O School Board Meeting
DESCRIPTION:
URL:https://harneyesd.k12.or.us/event/double-o-board-meeting-4/2027-02-17/
LOCATION:Hines\, OR
CATEGORIES:Board Meeting
END:VEVENT
BEGIN:VEVENT
DTSTART;TZID=UTC:20270317T190000
DTEND;TZID=UTC:20270317T200000
DTSTAMP:20260424T115209
CREATED:20220526T115813Z
LAST-MODIFIED:20240621T204426Z
UID:10000633-1805310000-1805313600@harneyesd.k12.or.us
SUMMARY:Double O School Board Meeting
DESCRIPTION:
URL:https://harneyesd.k12.or.us/event/double-o-board-meeting-4/2027-03-17/
LOCATION:Hines\, OR
CATEGORIES:Board Meeting
END:VEVENT
BEGIN:VEVENT
DTSTART;TZID=UTC:20270421T190000
DTEND;TZID=UTC:20270421T200000
DTSTAMP:20260424T115209
CREATED:20220526T115813Z
LAST-MODIFIED:20240621T204426Z
UID:10000634-1808334000-1808337600@harneyesd.k12.or.us
SUMMARY:Double O School Board Meeting
DESCRIPTION:
URL:https://harneyesd.k12.or.us/event/double-o-board-meeting-4/2027-04-21/
LOCATION:Hines\, OR
CATEGORIES:Board Meeting
END:VEVENT
BEGIN:VEVENT
DTSTART;TZID=UTC:20270519T190000
DTEND;TZID=UTC:20270519T200000
DTSTAMP:20260424T115209
CREATED:20220526T115813Z
LAST-MODIFIED:20240621T204426Z
UID:10000635-1810753200-1810756800@harneyesd.k12.or.us
SUMMARY:Double O School Board Meeting
DESCRIPTION:
URL:https://harneyesd.k12.or.us/event/double-o-board-meeting-4/2027-05-19/
LOCATION:Hines\, OR
CATEGORIES:Board Meeting
END:VEVENT
BEGIN:VEVENT
DTSTART;TZID=UTC:20270616T190000
DTEND;TZID=UTC:20270616T200000
DTSTAMP:20260424T115209
CREATED:20220526T115813Z
LAST-MODIFIED:20240621T204426Z
UID:10000636-1813172400-1813176000@harneyesd.k12.or.us
SUMMARY:Double O School Board Meeting
DESCRIPTION:
URL:https://harneyesd.k12.or.us/event/double-o-board-meeting-4/2027-06-16/
LOCATION:Hines\, OR
CATEGORIES:Board Meeting
END:VEVENT
BEGIN:VEVENT
DTSTART;TZID=UTC:20270721T190000
DTEND;TZID=UTC:20270721T200000
DTSTAMP:20260424T115209
CREATED:20220526T115813Z
LAST-MODIFIED:20240621T204426Z
UID:10000637-1816196400-1816200000@harneyesd.k12.or.us
SUMMARY:Double O School Board Meeting
DESCRIPTION:
URL:https://harneyesd.k12.or.us/event/double-o-board-meeting-4/2027-07-21/
LOCATION:Hines\, OR
CATEGORIES:Board Meeting
END:VEVENT
BEGIN:VEVENT
DTSTART;TZID=UTC:20270818T190000
DTEND;TZID=UTC:20270818T200000
DTSTAMP:20260424T115209
CREATED:20220526T115813Z
LAST-MODIFIED:20240621T204426Z
UID:10000638-1818615600-1818619200@harneyesd.k12.or.us
SUMMARY:Double O School Board Meeting
DESCRIPTION:
URL:https://harneyesd.k12.or.us/event/double-o-board-meeting-4/2027-08-18/
LOCATION:Hines\, OR
CATEGORIES:Board Meeting
END:VEVENT
BEGIN:VEVENT
DTSTART;TZID=UTC:20270915T190000
DTEND;TZID=UTC:20270915T200000
DTSTAMP:20260424T115209
CREATED:20220526T115813Z
LAST-MODIFIED:20240621T204426Z
UID:10000639-1821034800-1821038400@harneyesd.k12.or.us
SUMMARY:Double O School Board Meeting
DESCRIPTION:
URL:https://harneyesd.k12.or.us/event/double-o-board-meeting-4/2027-09-15/
LOCATION:Hines\, OR
CATEGORIES:Board Meeting
END:VEVENT
BEGIN:VEVENT
DTSTART;TZID=UTC:20271020T190000
DTEND;TZID=UTC:20271020T200000
DTSTAMP:20260424T115209
CREATED:20220526T115813Z
LAST-MODIFIED:20240621T204426Z
UID:10000640-1824058800-1824062400@harneyesd.k12.or.us
SUMMARY:Double O School Board Meeting
DESCRIPTION:
URL:https://harneyesd.k12.or.us/event/double-o-board-meeting-4/2027-10-20/
LOCATION:Hines\, OR
CATEGORIES:Board Meeting
END:VEVENT
BEGIN:VEVENT
DTSTART;TZID=UTC:20271117T190000
DTEND;TZID=UTC:20271117T200000
DTSTAMP:20260424T115209
CREATED:20220526T115813Z
LAST-MODIFIED:20240621T204426Z
UID:10000641-1826478000-1826481600@harneyesd.k12.or.us
SUMMARY:Double O School Board Meeting
DESCRIPTION:
URL:https://harneyesd.k12.or.us/event/double-o-board-meeting-4/2027-11-17/
LOCATION:Hines\, OR
CATEGORIES:Board Meeting
END:VEVENT
BEGIN:VEVENT
DTSTART;TZID=UTC:20271215T190000
DTEND;TZID=UTC:20271215T200000
DTSTAMP:20260424T115209
CREATED:20220526T115813Z
LAST-MODIFIED:20240621T204426Z
UID:10000642-1828897200-1828900800@harneyesd.k12.or.us
SUMMARY:Double O School Board Meeting
DESCRIPTION:
URL:https://harneyesd.k12.or.us/event/double-o-board-meeting-4/2027-12-15/
LOCATION:Hines\, OR
CATEGORIES:Board Meeting
END:VEVENT
BEGIN:VEVENT
DTSTART;TZID=UTC:20280119T190000
DTEND;TZID=UTC:20280119T200000
DTSTAMP:20260424T115209
CREATED:20220526T115813Z
LAST-MODIFIED:20240621T204426Z
UID:10000643-1831921200-1831924800@harneyesd.k12.or.us
SUMMARY:Double O School Board Meeting
DESCRIPTION:
URL:https://harneyesd.k12.or.us/event/double-o-board-meeting-4/2028-01-19/
LOCATION:Hines\, OR
CATEGORIES:Board Meeting
END:VEVENT
BEGIN:VEVENT
DTSTART;TZID=UTC:20280216T190000
DTEND;TZID=UTC:20280216T200000
DTSTAMP:20260424T115209
CREATED:20220526T115813Z
LAST-MODIFIED:20240621T204426Z
UID:10000644-1834340400-1834344000@harneyesd.k12.or.us
SUMMARY:Double O School Board Meeting
DESCRIPTION:
URL:https://harneyesd.k12.or.us/event/double-o-board-meeting-4/2028-02-16/
LOCATION:Hines\, OR
CATEGORIES:Board Meeting
END:VEVENT
BEGIN:VEVENT
DTSTART;TZID=UTC:20280315T190000
DTEND;TZID=UTC:20280315T200000
DTSTAMP:20260424T115209
CREATED:20220526T115813Z
LAST-MODIFIED:20240621T204426Z
UID:10000645-1836759600-1836763200@harneyesd.k12.or.us
SUMMARY:Double O School Board Meeting
DESCRIPTION:
URL:https://harneyesd.k12.or.us/event/double-o-board-meeting-4/2028-03-15/
LOCATION:Hines\, OR
CATEGORIES:Board Meeting
END:VEVENT
BEGIN:VEVENT
DTSTART;TZID=UTC:20280419T190000
DTEND;TZID=UTC:20280419T200000
DTSTAMP:20260424T115209
CREATED:20220526T115813Z
LAST-MODIFIED:20240621T204426Z
UID:10000646-1839783600-1839787200@harneyesd.k12.or.us
SUMMARY:Double O School Board Meeting
DESCRIPTION:
URL:https://harneyesd.k12.or.us/event/double-o-board-meeting-4/2028-04-19/
LOCATION:Hines\, OR
CATEGORIES:Board Meeting
END:VEVENT
BEGIN:VEVENT
DTSTART;TZID=UTC:20280517T190000
DTEND;TZID=UTC:20280517T200000
DTSTAMP:20260424T115209
CREATED:20220526T115813Z
LAST-MODIFIED:20240621T204426Z
UID:10000647-1842202800-1842206400@harneyesd.k12.or.us
SUMMARY:Double O School Board Meeting
DESCRIPTION:
URL:https://harneyesd.k12.or.us/event/double-o-board-meeting-4/2028-05-17/
LOCATION:Hines\, OR
CATEGORIES:Board Meeting
END:VEVENT
BEGIN:VEVENT
DTSTART;TZID=UTC:20280621T190000
DTEND;TZID=UTC:20280621T200000
DTSTAMP:20260424T115209
CREATED:20220526T115813Z
LAST-MODIFIED:20240621T204426Z
UID:10000648-1845226800-1845230400@harneyesd.k12.or.us
SUMMARY:Double O School Board Meeting
DESCRIPTION:
URL:https://harneyesd.k12.or.us/event/double-o-board-meeting-4/2028-06-21/
LOCATION:Hines\, OR
CATEGORIES:Board Meeting
END:VEVENT
BEGIN:VEVENT
DTSTART;TZID=UTC:20280719T190000
DTEND;TZID=UTC:20280719T200000
DTSTAMP:20260424T115209
CREATED:20220526T115813Z
LAST-MODIFIED:20240621T204426Z
UID:10000649-1847646000-1847649600@harneyesd.k12.or.us
SUMMARY:Double O School Board Meeting
DESCRIPTION:
URL:https://harneyesd.k12.or.us/event/double-o-board-meeting-4/2028-07-19/
LOCATION:Hines\, OR
CATEGORIES:Board Meeting
END:VEVENT
BEGIN:VEVENT
DTSTART;TZID=UTC:20280816T190000
DTEND;TZID=UTC:20280816T200000
DTSTAMP:20260424T115210
CREATED:20220526T115813Z
LAST-MODIFIED:20240621T204426Z
UID:10000690-1850065200-1850068800@harneyesd.k12.or.us
SUMMARY:Double O School Board Meeting
DESCRIPTION:
URL:https://harneyesd.k12.or.us/event/double-o-board-meeting-4/2028-08-16/
LOCATION:Hines\, OR
CATEGORIES:Board Meeting
END:VEVENT
BEGIN:VEVENT
DTSTART;TZID=UTC:20280920T190000
DTEND;TZID=UTC:20280920T200000
DTSTAMP:20260424T115210
CREATED:20220526T115813Z
LAST-MODIFIED:20240621T204426Z
UID:10000691-1853089200-1853092800@harneyesd.k12.or.us
SUMMARY:Double O School Board Meeting
DESCRIPTION:
URL:https://harneyesd.k12.or.us/event/double-o-board-meeting-4/2028-09-20/
LOCATION:Hines\, OR
CATEGORIES:Board Meeting
END:VEVENT
BEGIN:VEVENT
DTSTART;TZID=UTC:20281018T190000
DTEND;TZID=UTC:20281018T200000
DTSTAMP:20260424T115210
CREATED:20220526T115813Z
LAST-MODIFIED:20240621T204426Z
UID:10000692-1855508400-1855512000@harneyesd.k12.or.us
SUMMARY:Double O School Board Meeting
DESCRIPTION:
URL:https://harneyesd.k12.or.us/event/double-o-board-meeting-4/2028-10-18/
LOCATION:Hines\, OR
CATEGORIES:Board Meeting
END:VEVENT
END:VCALENDAR