BEGIN:VCALENDAR
VERSION:2.0
PRODID:-//Harney ESD - ECPv6.15.20//NONSGML v1.0//EN
CALSCALE:GREGORIAN
METHOD:PUBLISH
X-WR-CALNAME:Harney ESD
X-ORIGINAL-URL:https://harneyesd.k12.or.us
X-WR-CALDESC:Events for Harney ESD
REFRESH-INTERVAL;VALUE=DURATION:PT1H
X-Robots-Tag:noindex
X-PUBLISHED-TTL:PT1H
BEGIN:VTIMEZONE
TZID:America/Los_Angeles
BEGIN:DAYLIGHT
TZOFFSETFROM:-0800
TZOFFSETTO:-0700
TZNAME:PDT
DTSTART:20290311T100000
END:DAYLIGHT
BEGIN:STANDARD
TZOFFSETFROM:-0700
TZOFFSETTO:-0800
TZNAME:PST
DTSTART:20291104T090000
END:STANDARD
BEGIN:DAYLIGHT
TZOFFSETFROM:-0800
TZOFFSETTO:-0700
TZNAME:PDT
DTSTART:20300310T100000
END:DAYLIGHT
BEGIN:STANDARD
TZOFFSETFROM:-0700
TZOFFSETTO:-0800
TZNAME:PST
DTSTART:20301103T090000
END:STANDARD
BEGIN:DAYLIGHT
TZOFFSETFROM:-0800
TZOFFSETTO:-0700
TZNAME:PDT
DTSTART:20310309T100000
END:DAYLIGHT
BEGIN:STANDARD
TZOFFSETFROM:-0700
TZOFFSETTO:-0800
TZNAME:PST
DTSTART:20311102T090000
END:STANDARD
BEGIN:DAYLIGHT
TZOFFSETFROM:-0800
TZOFFSETTO:-0700
TZNAME:PDT
DTSTART:20320314T100000
END:DAYLIGHT
BEGIN:STANDARD
TZOFFSETFROM:-0700
TZOFFSETTO:-0800
TZNAME:PST
DTSTART:20321107T090000
END:STANDARD
END:VTIMEZONE
BEGIN:VEVENT
DTSTART;TZID=America/Los_Angeles:20300410T180000
DTEND;TZID=America/Los_Angeles:20300410T193000
DTSTAMP:20260424T152434
CREATED:20260203T193710Z
LAST-MODIFIED:20260203T193806Z
UID:10001176-1902074400-1902079800@harneyesd.k12.or.us
SUMMARY:Drewsey School Board Meeting
DESCRIPTION:
URL:https://harneyesd.k12.or.us/event/drewsey-school-district-board-meeting/2030-04-10/
LOCATION:Drewsey School House\, 78834 Drewsey Rd\, Drewsey\, OR\, 97904\, United States
END:VEVENT
BEGIN:VEVENT
DTSTART;TZID=America/Los_Angeles:20300508T180000
DTEND;TZID=America/Los_Angeles:20300508T193000
DTSTAMP:20260424T152434
CREATED:20260203T193710Z
LAST-MODIFIED:20260203T193806Z
UID:10001177-1904493600-1904499000@harneyesd.k12.or.us
SUMMARY:Drewsey School Board Meeting
DESCRIPTION:
URL:https://harneyesd.k12.or.us/event/drewsey-school-district-board-meeting/2030-05-08/
LOCATION:Drewsey School House\, 78834 Drewsey Rd\, Drewsey\, OR\, 97904\, United States
END:VEVENT
BEGIN:VEVENT
DTSTART;TZID=America/Los_Angeles:20300612T180000
DTEND;TZID=America/Los_Angeles:20300612T193000
DTSTAMP:20260424T152434
CREATED:20260203T193710Z
LAST-MODIFIED:20260203T193806Z
UID:10001178-1907517600-1907523000@harneyesd.k12.or.us
SUMMARY:Drewsey School Board Meeting
DESCRIPTION:
URL:https://harneyesd.k12.or.us/event/drewsey-school-district-board-meeting/2030-06-12/
LOCATION:Drewsey School House\, 78834 Drewsey Rd\, Drewsey\, OR\, 97904\, United States
END:VEVENT
BEGIN:VEVENT
DTSTART;TZID=America/Los_Angeles:20300710T180000
DTEND;TZID=America/Los_Angeles:20300710T193000
DTSTAMP:20260424T152434
CREATED:20260203T193710Z
LAST-MODIFIED:20260203T193806Z
UID:10001179-1909936800-1909942200@harneyesd.k12.or.us
SUMMARY:Drewsey School Board Meeting
DESCRIPTION:
URL:https://harneyesd.k12.or.us/event/drewsey-school-district-board-meeting/2030-07-10/
LOCATION:Drewsey School House\, 78834 Drewsey Rd\, Drewsey\, OR\, 97904\, United States
END:VEVENT
BEGIN:VEVENT
DTSTART;TZID=America/Los_Angeles:20300814T180000
DTEND;TZID=America/Los_Angeles:20300814T193000
DTSTAMP:20260424T152434
CREATED:20260203T193710Z
LAST-MODIFIED:20260203T193806Z
UID:10001180-1912960800-1912966200@harneyesd.k12.or.us
SUMMARY:Drewsey School Board Meeting
DESCRIPTION:
URL:https://harneyesd.k12.or.us/event/drewsey-school-district-board-meeting/2030-08-14/
LOCATION:Drewsey School House\, 78834 Drewsey Rd\, Drewsey\, OR\, 97904\, United States
END:VEVENT
BEGIN:VEVENT
DTSTART;TZID=America/Los_Angeles:20300911T180000
DTEND;TZID=America/Los_Angeles:20300911T193000
DTSTAMP:20260424T152434
CREATED:20260203T193710Z
LAST-MODIFIED:20260203T193806Z
UID:10001181-1915380000-1915385400@harneyesd.k12.or.us
SUMMARY:Drewsey School Board Meeting
DESCRIPTION:
URL:https://harneyesd.k12.or.us/event/drewsey-school-district-board-meeting/2030-09-11/
LOCATION:Drewsey School House\, 78834 Drewsey Rd\, Drewsey\, OR\, 97904\, United States
END:VEVENT
BEGIN:VEVENT
DTSTART;TZID=America/Los_Angeles:20301009T180000
DTEND;TZID=America/Los_Angeles:20301009T193000
DTSTAMP:20260424T152434
CREATED:20260203T193710Z
LAST-MODIFIED:20260203T193806Z
UID:10001182-1917799200-1917804600@harneyesd.k12.or.us
SUMMARY:Drewsey School Board Meeting
DESCRIPTION:
URL:https://harneyesd.k12.or.us/event/drewsey-school-district-board-meeting/2030-10-09/
LOCATION:Drewsey School House\, 78834 Drewsey Rd\, Drewsey\, OR\, 97904\, United States
END:VEVENT
BEGIN:VEVENT
DTSTART;TZID=America/Los_Angeles:20301113T180000
DTEND;TZID=America/Los_Angeles:20301113T193000
DTSTAMP:20260424T152434
CREATED:20260203T193710Z
LAST-MODIFIED:20260203T193806Z
UID:10001183-1920823200-1920828600@harneyesd.k12.or.us
SUMMARY:Drewsey School Board Meeting
DESCRIPTION:
URL:https://harneyesd.k12.or.us/event/drewsey-school-district-board-meeting/2030-11-13/
LOCATION:Drewsey School House\, 78834 Drewsey Rd\, Drewsey\, OR\, 97904\, United States
END:VEVENT
BEGIN:VEVENT
DTSTART;TZID=America/Los_Angeles:20301211T180000
DTEND;TZID=America/Los_Angeles:20301211T193000
DTSTAMP:20260424T152434
CREATED:20260203T193710Z
LAST-MODIFIED:20260203T193806Z
UID:10001184-1923242400-1923247800@harneyesd.k12.or.us
SUMMARY:Drewsey School Board Meeting
DESCRIPTION:
URL:https://harneyesd.k12.or.us/event/drewsey-school-district-board-meeting/2030-12-11/
LOCATION:Drewsey School House\, 78834 Drewsey Rd\, Drewsey\, OR\, 97904\, United States
END:VEVENT
BEGIN:VEVENT
DTSTART;TZID=America/Los_Angeles:20310108T180000
DTEND;TZID=America/Los_Angeles:20310108T193000
DTSTAMP:20260424T152434
CREATED:20260203T193710Z
LAST-MODIFIED:20260203T193806Z
UID:10001185-1925661600-1925667000@harneyesd.k12.or.us
SUMMARY:Drewsey School Board Meeting
DESCRIPTION:
URL:https://harneyesd.k12.or.us/event/drewsey-school-district-board-meeting/2031-01-08/
LOCATION:Drewsey School House\, 78834 Drewsey Rd\, Drewsey\, OR\, 97904\, United States
END:VEVENT
END:VCALENDAR