BEGIN:VCALENDAR
VERSION:2.0
PRODID:-//Harney ESD - ECPv6.15.20//NONSGML v1.0//EN
CALSCALE:GREGORIAN
METHOD:PUBLISH
X-ORIGINAL-URL:https://harneyesd.k12.or.us
X-WR-CALDESC:Events for Harney ESD
REFRESH-INTERVAL;VALUE=DURATION:PT1H
X-Robots-Tag:noindex
X-PUBLISHED-TTL:PT1H
BEGIN:VTIMEZONE
TZID:America/Los_Angeles
BEGIN:DAYLIGHT
TZOFFSETFROM:-0800
TZOFFSETTO:-0700
TZNAME:PDT
DTSTART:20240310T100000
END:DAYLIGHT
BEGIN:STANDARD
TZOFFSETFROM:-0700
TZOFFSETTO:-0800
TZNAME:PST
DTSTART:20241103T090000
END:STANDARD
BEGIN:DAYLIGHT
TZOFFSETFROM:-0800
TZOFFSETTO:-0700
TZNAME:PDT
DTSTART:20250309T100000
END:DAYLIGHT
BEGIN:STANDARD
TZOFFSETFROM:-0700
TZOFFSETTO:-0800
TZNAME:PST
DTSTART:20251102T090000
END:STANDARD
BEGIN:DAYLIGHT
TZOFFSETFROM:-0800
TZOFFSETTO:-0700
TZNAME:PDT
DTSTART:20260308T100000
END:DAYLIGHT
BEGIN:STANDARD
TZOFFSETFROM:-0700
TZOFFSETTO:-0800
TZNAME:PST
DTSTART:20261101T090000
END:STANDARD
BEGIN:DAYLIGHT
TZOFFSETFROM:-0800
TZOFFSETTO:-0700
TZNAME:PDT
DTSTART:20270314T100000
END:DAYLIGHT
BEGIN:STANDARD
TZOFFSETFROM:-0700
TZOFFSETTO:-0800
TZNAME:PST
DTSTART:20271107T090000
END:STANDARD
END:VTIMEZONE
BEGIN:VEVENT
DTSTART;TZID=America/Los_Angeles:20260408T180000
DTEND;TZID=America/Los_Angeles:20260408T193000
DTSTAMP:20260424T104308
CREATED:20260203T193710Z
LAST-MODIFIED:20260203T193806Z
UID:10001128-1775671200-1775676600@harneyesd.k12.or.us
SUMMARY:Drewsey School Board Meeting
DESCRIPTION:
URL:https://harneyesd.k12.or.us/event/drewsey-school-district-board-meeting/2026-04-08/
LOCATION:Drewsey School House\, 78834 Drewsey Rd\, Drewsey\, OR\, 97904\, United States
END:VEVENT
BEGIN:VEVENT
DTSTART;TZID=America/Los_Angeles:20260311T180000
DTEND;TZID=America/Los_Angeles:20260311T193000
DTSTAMP:20260424T104308
CREATED:20260203T193710Z
LAST-MODIFIED:20260203T193806Z
UID:10001127-1773252000-1773257400@harneyesd.k12.or.us
SUMMARY:Drewsey School Board Meeting
DESCRIPTION:
URL:https://harneyesd.k12.or.us/event/drewsey-school-district-board-meeting/2026-03-11/
LOCATION:Drewsey School House\, 78834 Drewsey Rd\, Drewsey\, OR\, 97904\, United States
END:VEVENT
BEGIN:VEVENT
DTSTART;TZID=America/Los_Angeles:20260212T180000
DTEND;TZID=America/Los_Angeles:20260212T193000
DTSTAMP:20260424T104308
CREATED:20260203T193850Z
LAST-MODIFIED:20260203T193850Z
UID:10001186-1770919200-1770924600@harneyesd.k12.or.us
SUMMARY:Drewsey School Board Meeting
DESCRIPTION:
URL:https://harneyesd.k12.or.us/event/drewsey-school-board-meeting/
LOCATION:Drewsey School House\, 78834 Drewsey Rd\, Drewsey\, OR\, 97904\, United States
END:VEVENT
BEGIN:VEVENT
DTSTART;TZID=America/Los_Angeles:20251211T180000
DTEND;TZID=America/Los_Angeles:20251211T190000
DTSTAMP:20260424T104308
CREATED:20251202T234613Z
LAST-MODIFIED:20251203T000824Z
UID:10000929-1765476000-1765479600@harneyesd.k12.or.us
SUMMARY:Drewsey School District Board Meeting
DESCRIPTION:
URL:https://harneyesd.k12.or.us/event/drewsey-school-district-board-meeting-4/
LOCATION:Drewsey School House\, 78834 Drewsey Rd\, Drewsey\, OR\, 97904\, United States
END:VEVENT
BEGIN:VEVENT
DTSTART;TZID=America/Los_Angeles:20251124T180000
DTEND;TZID=America/Los_Angeles:20251124T190000
DTSTAMP:20260424T104308
CREATED:20251112T200521Z
LAST-MODIFIED:20251112T200538Z
UID:10000928-1764007200-1764010800@harneyesd.k12.or.us
SUMMARY:Drewsey School District Board Meeting
DESCRIPTION:
URL:https://harneyesd.k12.or.us/event/drewsey-school-district-board-meeting-3/
LOCATION:Drewsey School House\, 78834 Drewsey Rd\, Drewsey\, OR\, 97904\, United States
END:VEVENT
BEGIN:VEVENT
DTSTART;TZID=America/Los_Angeles:20251016T180000
DTEND;TZID=America/Los_Angeles:20251016T180000
DTSTAMP:20260424T104308
CREATED:20251008T225654Z
LAST-MODIFIED:20251008T225822Z
UID:10000927-1760637600-1760637600@harneyesd.k12.or.us
SUMMARY:Drewsey School District Board Meeting
DESCRIPTION:
URL:https://harneyesd.k12.or.us/event/drewsey-school-district-board-meeting-2/
LOCATION:Drewsey School House\, 78834 Drewsey Rd\, Drewsey\, OR\, 97904\, United States
END:VEVENT
END:VCALENDAR