BEGIN:VCALENDAR
VERSION:2.0
PRODID:-//Harney ESD - ECPv6.15.20//NONSGML v1.0//EN
CALSCALE:GREGORIAN
METHOD:PUBLISH
X-WR-CALNAME:Harney ESD
X-ORIGINAL-URL:https://harneyesd.k12.or.us
X-WR-CALDESC:Events for Harney ESD
REFRESH-INTERVAL;VALUE=DURATION:PT1H
X-Robots-Tag:noindex
X-PUBLISHED-TTL:PT1H
BEGIN:VTIMEZONE
TZID:UTC
BEGIN:STANDARD
TZOFFSETFROM:+0000
TZOFFSETTO:+0000
TZNAME:UTC
DTSTART:20210101T000000
END:STANDARD
END:VTIMEZONE
BEGIN:VEVENT
DTSTART;TZID=UTC:20220711T080000
DTEND;TZID=UTC:20220711T090000
DTSTAMP:20260421T162020
CREATED:20220526T115329Z
LAST-MODIFIED:20220526T115329Z
UID:10000291-1657526400-1657530000@harneyesd.k12.or.us
SUMMARY:Crane Elementary Board Meeting
DESCRIPTION:
URL:https://harneyesd.k12.or.us/event/crane-elementary-board-meeting-2/
LOCATION:Crane Elementary School\, 43277 Crane-Venator Ln\, Crane\, 97732\, United States
CATEGORIES:Board Meeting
END:VEVENT
BEGIN:VEVENT
DTSTART;TZID=UTC:20220613T080000
DTEND;TZID=UTC:20220613T090000
DTSTAMP:20260421T162020
CREATED:20220526T013647Z
LAST-MODIFIED:20220526T013647Z
UID:10000289-1655107200-1655110800@harneyesd.k12.or.us
SUMMARY:Crane Elementary Board Meeting
DESCRIPTION:
URL:https://harneyesd.k12.or.us/event/crane-elementary-board-meeting/
LOCATION:Crane Elementary School\, 43277 Crane-Venator Ln\, Crane\, 97732\, United States
CATEGORIES:Board Meeting
END:VEVENT
END:VCALENDAR