BEGIN:VCALENDAR
VERSION:2.0
PRODID:-//Harney ESD - ECPv6.15.20//NONSGML v1.0//EN
CALSCALE:GREGORIAN
METHOD:PUBLISH
X-WR-CALNAME:Harney ESD
X-ORIGINAL-URL:https://harneyesd.k12.or.us
X-WR-CALDESC:Events for Harney ESD
REFRESH-INTERVAL;VALUE=DURATION:PT1H
X-Robots-Tag:noindex
X-PUBLISHED-TTL:PT1H
BEGIN:VTIMEZONE
TZID:UTC
BEGIN:STANDARD
TZOFFSETFROM:+0000
TZOFFSETTO:+0000
TZNAME:UTC
DTSTART:20220101T000000
END:STANDARD
END:VTIMEZONE
BEGIN:VTIMEZONE
TZID:America/Los_Angeles
BEGIN:DAYLIGHT
TZOFFSETFROM:-0800
TZOFFSETTO:-0700
TZNAME:PDT
DTSTART:20220313T100000
END:DAYLIGHT
BEGIN:STANDARD
TZOFFSETFROM:-0700
TZOFFSETTO:-0800
TZNAME:PST
DTSTART:20221106T090000
END:STANDARD
BEGIN:DAYLIGHT
TZOFFSETFROM:-0800
TZOFFSETTO:-0700
TZNAME:PDT
DTSTART:20230312T100000
END:DAYLIGHT
BEGIN:STANDARD
TZOFFSETFROM:-0700
TZOFFSETTO:-0800
TZNAME:PST
DTSTART:20231105T090000
END:STANDARD
BEGIN:DAYLIGHT
TZOFFSETFROM:-0800
TZOFFSETTO:-0700
TZNAME:PDT
DTSTART:20240310T100000
END:DAYLIGHT
BEGIN:STANDARD
TZOFFSETFROM:-0700
TZOFFSETTO:-0800
TZNAME:PST
DTSTART:20241103T090000
END:STANDARD
END:VTIMEZONE
BEGIN:VEVENT
DTSTART;TZID=UTC:20230803T190000
DTEND;TZID=UTC:20230803T210000
DTSTAMP:20260422T151644
CREATED:20220831T031756Z
LAST-MODIFIED:20240730T210538Z
UID:10000373-1691089200-1691096400@harneyesd.k12.or.us
SUMMARY:Suntex School Board Meeting
DESCRIPTION:
URL:https://harneyesd.k12.or.us/event/suntex-board-meeting/2023-08-03/
CATEGORIES:Board Meeting
END:VEVENT
BEGIN:VEVENT
DTSTART;TZID=UTC:20230719T190000
DTEND;TZID=UTC:20230719T200000
DTSTAMP:20260422T151644
CREATED:20220526T115813Z
LAST-MODIFIED:20240621T204426Z
UID:10000589-1689793200-1689796800@harneyesd.k12.or.us
SUMMARY:Double O School Board Meeting
DESCRIPTION:
URL:https://harneyesd.k12.or.us/event/double-o-board-meeting-4/2023-07-19/
LOCATION:Hines\, OR
CATEGORIES:Board Meeting
END:VEVENT
BEGIN:VEVENT
DTSTART;TZID=UTC:20230621T190000
DTEND;TZID=UTC:20230621T200000
DTSTAMP:20260422T151644
CREATED:20220526T115813Z
LAST-MODIFIED:20240621T204426Z
UID:10000588-1687374000-1687377600@harneyesd.k12.or.us
SUMMARY:Double O School Board Meeting
DESCRIPTION:
URL:https://harneyesd.k12.or.us/event/double-o-board-meeting-4/2023-06-21/
LOCATION:Hines\, OR
CATEGORIES:Board Meeting
END:VEVENT
BEGIN:VEVENT
DTSTART;TZID=America/Los_Angeles:20230614T203000
DTEND;TZID=America/Los_Angeles:20230614T213000
DTSTAMP:20260422T151644
CREATED:20220831T032933Z
LAST-MODIFIED:20240911T192713Z
UID:10000711-1686774600-1686778200@harneyesd.k12.or.us
SUMMARY:Harney ESD Board Meeting
DESCRIPTION:
URL:https://harneyesd.k12.or.us/event/harney-esd/2023-06-14/
END:VEVENT
BEGIN:VEVENT
DTSTART;TZID=UTC:20230613T190000
DTEND;TZID=UTC:20230613T200000
DTSTAMP:20260422T151644
CREATED:20221012T030938Z
LAST-MODIFIED:20240621T204231Z
UID:10000508-1686682800-1686686400@harneyesd.k12.or.us
SUMMARY:Pine Creek School Board Meeting
DESCRIPTION:
URL:https://harneyesd.k12.or.us/event/pine-creek-school-board-meeting/2023-06-13/
LOCATION:Pine Creek Elementary School
CATEGORIES:Board Meeting
END:VEVENT
BEGIN:VEVENT
DTSTART;TZID=UTC:20230601T190000
DTEND;TZID=UTC:20230601T210000
DTSTAMP:20260422T151644
CREATED:20220831T031756Z
LAST-MODIFIED:20240730T210538Z
UID:10000372-1685646000-1685653200@harneyesd.k12.or.us
SUMMARY:Suntex School Board Meeting
DESCRIPTION:
URL:https://harneyesd.k12.or.us/event/suntex-board-meeting/2023-06-01/
CATEGORIES:Board Meeting
END:VEVENT
BEGIN:VEVENT
DTSTART;TZID=UTC:20230517T190000
DTEND;TZID=UTC:20230517T200000
DTSTAMP:20260422T151644
CREATED:20220526T115813Z
LAST-MODIFIED:20240621T204426Z
UID:10000587-1684350000-1684353600@harneyesd.k12.or.us
SUMMARY:Double O School Board Meeting
DESCRIPTION:
URL:https://harneyesd.k12.or.us/event/double-o-board-meeting-4/2023-05-17/
LOCATION:Hines\, OR
CATEGORIES:Board Meeting
END:VEVENT
BEGIN:VEVENT
DTSTART;TZID=UTC:20230509T190000
DTEND;TZID=UTC:20230509T200000
DTSTAMP:20260422T151644
CREATED:20230413T022240Z
LAST-MODIFIED:20230413T022910Z
UID:10000574-1683658800-1683662400@harneyesd.k12.or.us
SUMMARY:Pine Creek School Budget Board Meeting
DESCRIPTION:
URL:https://harneyesd.k12.or.us/event/pine-creek-budget-board-meeting/
LOCATION:Pine Creek Elementary School
END:VEVENT
BEGIN:VEVENT
DTSTART;TZID=UTC:20230509T190000
DTEND;TZID=UTC:20230509T200000
DTSTAMP:20260422T151644
CREATED:20221012T030938Z
LAST-MODIFIED:20240621T204231Z
UID:10000666-1683658800-1683662400@harneyesd.k12.or.us
SUMMARY:Pine Creek School Board Meeting
DESCRIPTION:
URL:https://harneyesd.k12.or.us/event/pine-creek-school-board-meeting/2023-05-09/
LOCATION:Pine Creek Elementary School
CATEGORIES:Board Meeting
END:VEVENT
BEGIN:VEVENT
DTSTART;TZID=UTC:20230509T180000
DTEND;TZID=UTC:20230509T190000
DTSTAMP:20260422T151644
CREATED:20221012T030938Z
LAST-MODIFIED:20230413T022401Z
UID:10000569-1683655200-1683658800@harneyesd.k12.or.us
SUMMARY:Pine Creek School Board Meeting
DESCRIPTION:
URL:https://harneyesd.k12.or.us/event/pine-creek-school-board-meeting-2023-05-09/
LOCATION:Pine Creek Elementary School
CATEGORIES:Board Meeting
END:VEVENT
BEGIN:VEVENT
DTSTART;TZID=UTC:20230508T133000
DTEND;TZID=UTC:20230508T150000
DTSTAMP:20260422T151644
CREATED:20230413T022624Z
LAST-MODIFIED:20230413T022624Z
UID:10000575-1683552600-1683558000@harneyesd.k12.or.us
SUMMARY:Harney ESD Budget Board Meeting
DESCRIPTION:
URL:https://harneyesd.k12.or.us/event/harney-esd-budget-board-meeting/
LOCATION:Harney ESD\, 25 Fairview Heights Loop\, Burns\, Oregon\, 97720\, United States
END:VEVENT
BEGIN:VEVENT
DTSTART;TZID=UTC:20230508T113000
DTEND;TZID=UTC:20230508T123000
DTSTAMP:20260422T151644
CREATED:20230413T022714Z
LAST-MODIFIED:20230413T022714Z
UID:10000576-1683545400-1683549000@harneyesd.k12.or.us
SUMMARY:Harney ESD Board Meeting
DESCRIPTION:
URL:https://harneyesd.k12.or.us/event/harney-esd-board-meeting/
LOCATION:Harney ESD\, 25 Fairview Heights Loop\, Burns\, Oregon\, 97720\, United States
END:VEVENT
BEGIN:VEVENT
DTSTART;TZID=UTC:20230504T190000
DTEND;TZID=UTC:20230504T210000
DTSTAMP:20260422T151644
CREATED:20220831T031756Z
LAST-MODIFIED:20240730T210538Z
UID:10000654-1683226800-1683234000@harneyesd.k12.or.us
SUMMARY:Suntex School Board Meeting
DESCRIPTION:
URL:https://harneyesd.k12.or.us/event/suntex-board-meeting/2023-05-04/
CATEGORIES:Board Meeting
END:VEVENT
BEGIN:VEVENT
DTSTART;TZID=UTC:20230504T190000
DTEND;TZID=UTC:20230504T200000
DTSTAMP:20260422T151644
CREATED:20230413T021814Z
LAST-MODIFIED:20230413T023324Z
UID:10000572-1683226800-1683230400@harneyesd.k12.or.us
SUMMARY:Suntex School Budget Board Meeting
DESCRIPTION:
URL:https://harneyesd.k12.or.us/event/suntex-budget-board-meeting/
LOCATION:Suntex Elementary School\, 68178 Silver Creek Rd\, Riley\, Oregon\, 97758
END:VEVENT
BEGIN:VEVENT
DTSTART;TZID=UTC:20230504T180000
DTEND;TZID=UTC:20230504T190000
DTSTAMP:20260422T151644
CREATED:20220831T031756Z
LAST-MODIFIED:20230413T023231Z
UID:10000433-1683223200-1683226800@harneyesd.k12.or.us
SUMMARY:Suntex School Board Meeting
DESCRIPTION:
URL:https://harneyesd.k12.or.us/event/suntex-board-meeting-2023-05-04/
CATEGORIES:Board Meeting
END:VEVENT
BEGIN:VEVENT
DTSTART;TZID=UTC:20230503T180000
DTEND;TZID=UTC:20230503T200000
DTSTAMP:20260422T151644
CREATED:20230413T022023Z
LAST-MODIFIED:20230413T023419Z
UID:10000573-1683136800-1683144000@harneyesd.k12.or.us
SUMMARY:Double O School Regular & Budget Board Meeting
DESCRIPTION:Regular Board meeting will begin at 6:00 p.m.\nBudget Board meeting will begin at 7:00 p.m.
URL:https://harneyesd.k12.or.us/event/double-o-regular-budget-board-meeting/
LOCATION:Double O Elementary School
END:VEVENT
BEGIN:VEVENT
DTSTART;TZID=UTC:20230419T190000
DTEND;TZID=UTC:20230419T200000
DTSTAMP:20260422T151644
CREATED:20220526T115813Z
LAST-MODIFIED:20240621T204426Z
UID:10000586-1681930800-1681934400@harneyesd.k12.or.us
SUMMARY:Double O School Board Meeting
DESCRIPTION:
URL:https://harneyesd.k12.or.us/event/double-o-board-meeting-4/2023-04-19/
LOCATION:Hines\, OR
CATEGORIES:Board Meeting
END:VEVENT
BEGIN:VEVENT
DTSTART;TZID=America/Los_Angeles:20230412T203000
DTEND;TZID=America/Los_Angeles:20230412T213000
DTSTAMP:20260422T151644
CREATED:20220831T032933Z
LAST-MODIFIED:20240911T192713Z
UID:10000710-1681331400-1681335000@harneyesd.k12.or.us
SUMMARY:Harney ESD Board Meeting
DESCRIPTION:
URL:https://harneyesd.k12.or.us/event/harney-esd/2023-04-12/
END:VEVENT
BEGIN:VEVENT
DTSTART;TZID=UTC:20230411T190000
DTEND;TZID=UTC:20230411T200000
DTSTAMP:20260422T151644
CREATED:20221012T030938Z
LAST-MODIFIED:20240621T204231Z
UID:10000507-1681239600-1681243200@harneyesd.k12.or.us
SUMMARY:Pine Creek School Board Meeting
DESCRIPTION:
URL:https://harneyesd.k12.or.us/event/pine-creek-school-board-meeting/2023-04-11/
LOCATION:Pine Creek Elementary School
CATEGORIES:Board Meeting
END:VEVENT
BEGIN:VEVENT
DTSTART;TZID=UTC:20230406T190000
DTEND;TZID=UTC:20230406T210000
DTSTAMP:20260422T151644
CREATED:20220831T031756Z
LAST-MODIFIED:20240730T210538Z
UID:10000371-1680807600-1680814800@harneyesd.k12.or.us
SUMMARY:Suntex School Board Meeting
DESCRIPTION:
URL:https://harneyesd.k12.or.us/event/suntex-board-meeting/2023-04-06/
CATEGORIES:Board Meeting
END:VEVENT
BEGIN:VEVENT
DTSTART;TZID=UTC:20230315T190000
DTEND;TZID=UTC:20230315T200000
DTSTAMP:20260422T151644
CREATED:20220526T115813Z
LAST-MODIFIED:20240621T204426Z
UID:10000585-1678906800-1678910400@harneyesd.k12.or.us
SUMMARY:Double O School Board Meeting
DESCRIPTION:
URL:https://harneyesd.k12.or.us/event/double-o-board-meeting-4/2023-03-15/
LOCATION:Hines\, OR
CATEGORIES:Board Meeting
END:VEVENT
BEGIN:VEVENT
DTSTART;TZID=UTC:20230314T190000
DTEND;TZID=UTC:20230314T200000
DTSTAMP:20260422T151644
CREATED:20221012T030938Z
LAST-MODIFIED:20240621T204231Z
UID:10000506-1678820400-1678824000@harneyesd.k12.or.us
SUMMARY:Pine Creek School Board Meeting
DESCRIPTION:
URL:https://harneyesd.k12.or.us/event/pine-creek-school-board-meeting/2023-03-14/
LOCATION:Pine Creek Elementary School
CATEGORIES:Board Meeting
END:VEVENT
BEGIN:VEVENT
DTSTART;TZID=America/Los_Angeles:20230308T203000
DTEND;TZID=America/Los_Angeles:20230308T213000
DTSTAMP:20260422T151644
CREATED:20220831T032933Z
LAST-MODIFIED:20240911T192713Z
UID:10000709-1678307400-1678311000@harneyesd.k12.or.us
SUMMARY:Harney ESD Board Meeting
DESCRIPTION:
URL:https://harneyesd.k12.or.us/event/harney-esd/2023-03-08/
END:VEVENT
BEGIN:VEVENT
DTSTART;TZID=UTC:20230302T190000
DTEND;TZID=UTC:20230302T210000
DTSTAMP:20260422T151644
CREATED:20220831T031756Z
LAST-MODIFIED:20240730T210538Z
UID:10000370-1677783600-1677790800@harneyesd.k12.or.us
SUMMARY:Suntex School Board Meeting
DESCRIPTION:
URL:https://harneyesd.k12.or.us/event/suntex-board-meeting/2023-03-02/
CATEGORIES:Board Meeting
END:VEVENT
BEGIN:VEVENT
DTSTART;TZID=UTC:20230215T190000
DTEND;TZID=UTC:20230215T200000
DTSTAMP:20260422T151644
CREATED:20220526T115813Z
LAST-MODIFIED:20240621T204426Z
UID:10000584-1676487600-1676491200@harneyesd.k12.or.us
SUMMARY:Double O School Board Meeting
DESCRIPTION:
URL:https://harneyesd.k12.or.us/event/double-o-board-meeting-4/2023-02-15/
LOCATION:Hines\, OR
CATEGORIES:Board Meeting
END:VEVENT
BEGIN:VEVENT
DTSTART;TZID=UTC:20230214T190000
DTEND;TZID=UTC:20230214T200000
DTSTAMP:20260422T151644
CREATED:20221012T030938Z
LAST-MODIFIED:20240621T204231Z
UID:10000505-1676401200-1676404800@harneyesd.k12.or.us
SUMMARY:Pine Creek School Board Meeting
DESCRIPTION:
URL:https://harneyesd.k12.or.us/event/pine-creek-school-board-meeting/2023-02-14/
LOCATION:Pine Creek Elementary School
CATEGORIES:Board Meeting
END:VEVENT
BEGIN:VEVENT
DTSTART;TZID=America/Los_Angeles:20230208T203000
DTEND;TZID=America/Los_Angeles:20230208T213000
DTSTAMP:20260422T151644
CREATED:20220831T032933Z
LAST-MODIFIED:20240911T192713Z
UID:10000708-1675888200-1675891800@harneyesd.k12.or.us
SUMMARY:Harney ESD Board Meeting
DESCRIPTION:
URL:https://harneyesd.k12.or.us/event/harney-esd/2023-02-08/
END:VEVENT
BEGIN:VEVENT
DTSTART;TZID=UTC:20230202T190000
DTEND;TZID=UTC:20230202T210000
DTSTAMP:20260422T151644
CREATED:20220831T031756Z
LAST-MODIFIED:20240730T210538Z
UID:10000369-1675364400-1675371600@harneyesd.k12.or.us
SUMMARY:Suntex School Board Meeting
DESCRIPTION:
URL:https://harneyesd.k12.or.us/event/suntex-board-meeting/2023-02-02/
CATEGORIES:Board Meeting
END:VEVENT
BEGIN:VEVENT
DTSTART;TZID=UTC:20230118T190000
DTEND;TZID=UTC:20230118T200000
DTSTAMP:20260422T151644
CREATED:20220526T115813Z
LAST-MODIFIED:20240621T204426Z
UID:10000583-1674068400-1674072000@harneyesd.k12.or.us
SUMMARY:Double O School Board Meeting
DESCRIPTION:
URL:https://harneyesd.k12.or.us/event/double-o-board-meeting-4/2023-01-18/
LOCATION:Hines\, OR
CATEGORIES:Board Meeting
END:VEVENT
BEGIN:VEVENT
DTSTART;TZID=America/Los_Angeles:20230111T203000
DTEND;TZID=America/Los_Angeles:20230111T213000
DTSTAMP:20260422T151644
CREATED:20220831T032933Z
LAST-MODIFIED:20240911T192713Z
UID:10000707-1673469000-1673472600@harneyesd.k12.or.us
SUMMARY:Harney ESD Board Meeting
DESCRIPTION:
URL:https://harneyesd.k12.or.us/event/harney-esd/2023-01-11/
END:VEVENT
END:VCALENDAR