BEGIN:VCALENDAR
VERSION:2.0
PRODID:-//Harney ESD - ECPv6.15.20//NONSGML v1.0//EN
CALSCALE:GREGORIAN
METHOD:PUBLISH
X-WR-CALNAME:Harney ESD
X-ORIGINAL-URL:https://harneyesd.k12.or.us
X-WR-CALDESC:Events for Harney ESD
REFRESH-INTERVAL;VALUE=DURATION:PT1H
X-Robots-Tag:noindex
X-PUBLISHED-TTL:PT1H
BEGIN:VTIMEZONE
TZID:America/Los_Angeles
BEGIN:DAYLIGHT
TZOFFSETFROM:-0800
TZOFFSETTO:-0700
TZNAME:PDT
DTSTART:20260308T100000
END:DAYLIGHT
BEGIN:STANDARD
TZOFFSETFROM:-0700
TZOFFSETTO:-0800
TZNAME:PST
DTSTART:20261101T090000
END:STANDARD
BEGIN:DAYLIGHT
TZOFFSETFROM:-0800
TZOFFSETTO:-0700
TZNAME:PDT
DTSTART:20270314T100000
END:DAYLIGHT
BEGIN:STANDARD
TZOFFSETFROM:-0700
TZOFFSETTO:-0800
TZNAME:PST
DTSTART:20271107T090000
END:STANDARD
BEGIN:DAYLIGHT
TZOFFSETFROM:-0800
TZOFFSETTO:-0700
TZNAME:PDT
DTSTART:20280312T100000
END:DAYLIGHT
BEGIN:STANDARD
TZOFFSETFROM:-0700
TZOFFSETTO:-0800
TZNAME:PST
DTSTART:20281105T090000
END:STANDARD
BEGIN:DAYLIGHT
TZOFFSETFROM:-0800
TZOFFSETTO:-0700
TZNAME:PDT
DTSTART:20290311T100000
END:DAYLIGHT
BEGIN:STANDARD
TZOFFSETFROM:-0700
TZOFFSETTO:-0800
TZNAME:PST
DTSTART:20291104T090000
END:STANDARD
END:VTIMEZONE
BEGIN:VTIMEZONE
TZID:UTC
BEGIN:STANDARD
TZOFFSETFROM:+0000
TZOFFSETTO:+0000
TZNAME:UTC
DTSTART:20260101T000000
END:STANDARD
END:VTIMEZONE
BEGIN:VEVENT
DTSTART;TZID=America/Los_Angeles:20270818T133000
DTEND;TZID=America/Los_Angeles:20270818T150000
DTSTAMP:20260420T094842
CREATED:20250822T192950Z
LAST-MODIFIED:20250822T192951Z
UID:10001009-1818595800-1818601200@harneyesd.k12.or.us
SUMMARY:Harney ESD Board Meeting
DESCRIPTION:Google Meet joining info\nVideo call link: https://meet.google.com/pqz-xgra-psf\nOr dial: ‪(US) +1 601-869-6045‬ PIN: ‪245 789 704‬#
URL:https://harneyesd.k12.or.us/event/harney-esd-2-2/2027-08-18/
LOCATION:Harney ESD\, 25 Fairview Heights Loop\, Burns\, Oregon\, 97720\, United States
END:VEVENT
BEGIN:VEVENT
DTSTART;TZID=UTC:20270818T190000
DTEND;TZID=UTC:20270818T200000
DTSTAMP:20260420T094842
CREATED:20220526T115813Z
LAST-MODIFIED:20240621T204426Z
UID:10000638-1818615600-1818619200@harneyesd.k12.or.us
SUMMARY:Double O School Board Meeting
DESCRIPTION:
URL:https://harneyesd.k12.or.us/event/double-o-board-meeting-4/2027-08-18/
LOCATION:Hines\, OR
CATEGORIES:Board Meeting
END:VEVENT
BEGIN:VEVENT
DTSTART;TZID=UTC:20270902T190000
DTEND;TZID=UTC:20270902T210000
DTSTAMP:20260420T094842
CREATED:20220831T031756Z
LAST-MODIFIED:20240730T210538Z
UID:10000422-1819911600-1819918800@harneyesd.k12.or.us
SUMMARY:Suntex School Board Meeting
DESCRIPTION:
URL:https://harneyesd.k12.or.us/event/suntex-board-meeting/2027-09-02/
CATEGORIES:Board Meeting
END:VEVENT
BEGIN:VEVENT
DTSTART;TZID=America/Los_Angeles:20270908T180000
DTEND;TZID=America/Los_Angeles:20270908T193000
DTSTAMP:20260420T094842
CREATED:20260203T193710Z
LAST-MODIFIED:20260203T193806Z
UID:10001145-1820426400-1820431800@harneyesd.k12.or.us
SUMMARY:Drewsey School Board Meeting
DESCRIPTION:
URL:https://harneyesd.k12.or.us/event/drewsey-school-district-board-meeting/2027-09-08/
LOCATION:Drewsey School House\, 78834 Drewsey Rd\, Drewsey\, OR\, 97904\, United States
END:VEVENT
BEGIN:VEVENT
DTSTART;TZID=UTC:20270914T190000
DTEND;TZID=UTC:20270914T200000
DTSTAMP:20260420T094842
CREATED:20221012T030938Z
LAST-MODIFIED:20240621T204231Z
UID:10000558-1820948400-1820952000@harneyesd.k12.or.us
SUMMARY:Pine Creek School Board Meeting
DESCRIPTION:
URL:https://harneyesd.k12.or.us/event/pine-creek-school-board-meeting/2027-09-14/
LOCATION:Pine Creek Elementary School
CATEGORIES:Board Meeting
END:VEVENT
BEGIN:VEVENT
DTSTART;TZID=America/Los_Angeles:20270915T133000
DTEND;TZID=America/Los_Angeles:20270915T150000
DTSTAMP:20260420T094842
CREATED:20250822T192950Z
LAST-MODIFIED:20250822T192951Z
UID:10001010-1821015000-1821020400@harneyesd.k12.or.us
SUMMARY:Harney ESD Board Meeting
DESCRIPTION:Google Meet joining info\nVideo call link: https://meet.google.com/pqz-xgra-psf\nOr dial: ‪(US) +1 601-869-6045‬ PIN: ‪245 789 704‬#
URL:https://harneyesd.k12.or.us/event/harney-esd-2-2/2027-09-15/
LOCATION:Harney ESD\, 25 Fairview Heights Loop\, Burns\, Oregon\, 97720\, United States
END:VEVENT
BEGIN:VEVENT
DTSTART;TZID=UTC:20270915T190000
DTEND;TZID=UTC:20270915T200000
DTSTAMP:20260420T094842
CREATED:20220526T115813Z
LAST-MODIFIED:20240621T204426Z
UID:10000639-1821034800-1821038400@harneyesd.k12.or.us
SUMMARY:Double O School Board Meeting
DESCRIPTION:
URL:https://harneyesd.k12.or.us/event/double-o-board-meeting-4/2027-09-15/
LOCATION:Hines\, OR
CATEGORIES:Board Meeting
END:VEVENT
BEGIN:VEVENT
DTSTART;TZID=UTC:20271007T190000
DTEND;TZID=UTC:20271007T210000
DTSTAMP:20260420T094842
CREATED:20220831T031756Z
LAST-MODIFIED:20240730T210538Z
UID:10000423-1822935600-1822942800@harneyesd.k12.or.us
SUMMARY:Suntex School Board Meeting
DESCRIPTION:
URL:https://harneyesd.k12.or.us/event/suntex-board-meeting/2027-10-07/
CATEGORIES:Board Meeting
END:VEVENT
BEGIN:VEVENT
DTSTART;TZID=UTC:20271012T190000
DTEND;TZID=UTC:20271012T200000
DTSTAMP:20260420T094842
CREATED:20221012T030938Z
LAST-MODIFIED:20240621T204231Z
UID:10000559-1823367600-1823371200@harneyesd.k12.or.us
SUMMARY:Pine Creek School Board Meeting
DESCRIPTION:
URL:https://harneyesd.k12.or.us/event/pine-creek-school-board-meeting/2027-10-12/
LOCATION:Pine Creek Elementary School
CATEGORIES:Board Meeting
END:VEVENT
BEGIN:VEVENT
DTSTART;TZID=America/Los_Angeles:20271013T180000
DTEND;TZID=America/Los_Angeles:20271013T193000
DTSTAMP:20260420T094842
CREATED:20260203T193710Z
LAST-MODIFIED:20260203T193806Z
UID:10001146-1823450400-1823455800@harneyesd.k12.or.us
SUMMARY:Drewsey School Board Meeting
DESCRIPTION:
URL:https://harneyesd.k12.or.us/event/drewsey-school-district-board-meeting/2027-10-13/
LOCATION:Drewsey School House\, 78834 Drewsey Rd\, Drewsey\, OR\, 97904\, United States
END:VEVENT
BEGIN:VEVENT
DTSTART;TZID=America/Los_Angeles:20271020T133000
DTEND;TZID=America/Los_Angeles:20271020T150000
DTSTAMP:20260420T094842
CREATED:20250822T192950Z
LAST-MODIFIED:20250822T192951Z
UID:10001011-1824039000-1824044400@harneyesd.k12.or.us
SUMMARY:Harney ESD Board Meeting
DESCRIPTION:Google Meet joining info\nVideo call link: https://meet.google.com/pqz-xgra-psf\nOr dial: ‪(US) +1 601-869-6045‬ PIN: ‪245 789 704‬#
URL:https://harneyesd.k12.or.us/event/harney-esd-2-2/2027-10-20/
LOCATION:Harney ESD\, 25 Fairview Heights Loop\, Burns\, Oregon\, 97720\, United States
END:VEVENT
BEGIN:VEVENT
DTSTART;TZID=UTC:20271020T190000
DTEND;TZID=UTC:20271020T200000
DTSTAMP:20260420T094842
CREATED:20220526T115813Z
LAST-MODIFIED:20240621T204426Z
UID:10000640-1824058800-1824062400@harneyesd.k12.or.us
SUMMARY:Double O School Board Meeting
DESCRIPTION:
URL:https://harneyesd.k12.or.us/event/double-o-board-meeting-4/2027-10-20/
LOCATION:Hines\, OR
CATEGORIES:Board Meeting
END:VEVENT
BEGIN:VEVENT
DTSTART;TZID=UTC:20271104T190000
DTEND;TZID=UTC:20271104T210000
DTSTAMP:20260420T094842
CREATED:20220831T031756Z
LAST-MODIFIED:20240730T210538Z
UID:10000424-1825354800-1825362000@harneyesd.k12.or.us
SUMMARY:Suntex School Board Meeting
DESCRIPTION:
URL:https://harneyesd.k12.or.us/event/suntex-board-meeting/2027-11-04/
CATEGORIES:Board Meeting
END:VEVENT
BEGIN:VEVENT
DTSTART;TZID=UTC:20271109T190000
DTEND;TZID=UTC:20271109T200000
DTSTAMP:20260420T094842
CREATED:20221012T030938Z
LAST-MODIFIED:20240621T204231Z
UID:10000560-1825786800-1825790400@harneyesd.k12.or.us
SUMMARY:Pine Creek School Board Meeting
DESCRIPTION:
URL:https://harneyesd.k12.or.us/event/pine-creek-school-board-meeting/2027-11-09/
LOCATION:Pine Creek Elementary School
CATEGORIES:Board Meeting
END:VEVENT
BEGIN:VEVENT
DTSTART;TZID=America/Los_Angeles:20271110T180000
DTEND;TZID=America/Los_Angeles:20271110T193000
DTSTAMP:20260420T094842
CREATED:20260203T193710Z
LAST-MODIFIED:20260203T193806Z
UID:10001147-1825869600-1825875000@harneyesd.k12.or.us
SUMMARY:Drewsey School Board Meeting
DESCRIPTION:
URL:https://harneyesd.k12.or.us/event/drewsey-school-district-board-meeting/2027-11-10/
LOCATION:Drewsey School House\, 78834 Drewsey Rd\, Drewsey\, OR\, 97904\, United States
END:VEVENT
BEGIN:VEVENT
DTSTART;TZID=America/Los_Angeles:20271117T133000
DTEND;TZID=America/Los_Angeles:20271117T150000
DTSTAMP:20260420T094842
CREATED:20250822T192950Z
LAST-MODIFIED:20250822T192951Z
UID:10001012-1826458200-1826463600@harneyesd.k12.or.us
SUMMARY:Harney ESD Board Meeting
DESCRIPTION:Google Meet joining info\nVideo call link: https://meet.google.com/pqz-xgra-psf\nOr dial: ‪(US) +1 601-869-6045‬ PIN: ‪245 789 704‬#
URL:https://harneyesd.k12.or.us/event/harney-esd-2-2/2027-11-17/
LOCATION:Harney ESD\, 25 Fairview Heights Loop\, Burns\, Oregon\, 97720\, United States
END:VEVENT
BEGIN:VEVENT
DTSTART;TZID=UTC:20271117T190000
DTEND;TZID=UTC:20271117T200000
DTSTAMP:20260420T094842
CREATED:20220526T115813Z
LAST-MODIFIED:20240621T204426Z
UID:10000641-1826478000-1826481600@harneyesd.k12.or.us
SUMMARY:Double O School Board Meeting
DESCRIPTION:
URL:https://harneyesd.k12.or.us/event/double-o-board-meeting-4/2027-11-17/
LOCATION:Hines\, OR
CATEGORIES:Board Meeting
END:VEVENT
BEGIN:VEVENT
DTSTART;TZID=UTC:20271202T190000
DTEND;TZID=UTC:20271202T210000
DTSTAMP:20260420T094842
CREATED:20220831T031756Z
LAST-MODIFIED:20240730T210538Z
UID:10000425-1827774000-1827781200@harneyesd.k12.or.us
SUMMARY:Suntex School Board Meeting
DESCRIPTION:
URL:https://harneyesd.k12.or.us/event/suntex-board-meeting/2027-12-02/
CATEGORIES:Board Meeting
END:VEVENT
BEGIN:VEVENT
DTSTART;TZID=America/Los_Angeles:20271208T180000
DTEND;TZID=America/Los_Angeles:20271208T193000
DTSTAMP:20260420T094842
CREATED:20260203T193710Z
LAST-MODIFIED:20260203T193806Z
UID:10001148-1828288800-1828294200@harneyesd.k12.or.us
SUMMARY:Drewsey School Board Meeting
DESCRIPTION:
URL:https://harneyesd.k12.or.us/event/drewsey-school-district-board-meeting/2027-12-08/
LOCATION:Drewsey School House\, 78834 Drewsey Rd\, Drewsey\, OR\, 97904\, United States
END:VEVENT
BEGIN:VEVENT
DTSTART;TZID=UTC:20271214T190000
DTEND;TZID=UTC:20271214T200000
DTSTAMP:20260420T094842
CREATED:20221012T030938Z
LAST-MODIFIED:20240621T204231Z
UID:10000561-1828810800-1828814400@harneyesd.k12.or.us
SUMMARY:Pine Creek School Board Meeting
DESCRIPTION:
URL:https://harneyesd.k12.or.us/event/pine-creek-school-board-meeting/2027-12-14/
LOCATION:Pine Creek Elementary School
CATEGORIES:Board Meeting
END:VEVENT
BEGIN:VEVENT
DTSTART;TZID=America/Los_Angeles:20271215T133000
DTEND;TZID=America/Los_Angeles:20271215T150000
DTSTAMP:20260420T094842
CREATED:20250822T192950Z
LAST-MODIFIED:20250822T192951Z
UID:10001013-1828877400-1828882800@harneyesd.k12.or.us
SUMMARY:Harney ESD Board Meeting
DESCRIPTION:Google Meet joining info\nVideo call link: https://meet.google.com/pqz-xgra-psf\nOr dial: ‪(US) +1 601-869-6045‬ PIN: ‪245 789 704‬#
URL:https://harneyesd.k12.or.us/event/harney-esd-2-2/2027-12-15/
LOCATION:Harney ESD\, 25 Fairview Heights Loop\, Burns\, Oregon\, 97720\, United States
END:VEVENT
BEGIN:VEVENT
DTSTART;TZID=UTC:20271215T190000
DTEND;TZID=UTC:20271215T200000
DTSTAMP:20260420T094842
CREATED:20220526T115813Z
LAST-MODIFIED:20240621T204426Z
UID:10000642-1828897200-1828900800@harneyesd.k12.or.us
SUMMARY:Double O School Board Meeting
DESCRIPTION:
URL:https://harneyesd.k12.or.us/event/double-o-board-meeting-4/2027-12-15/
LOCATION:Hines\, OR
CATEGORIES:Board Meeting
END:VEVENT
BEGIN:VEVENT
DTSTART;TZID=UTC:20280106T190000
DTEND;TZID=UTC:20280106T210000
DTSTAMP:20260420T094842
CREATED:20220831T031756Z
LAST-MODIFIED:20240730T210538Z
UID:10000426-1830798000-1830805200@harneyesd.k12.or.us
SUMMARY:Suntex School Board Meeting
DESCRIPTION:
URL:https://harneyesd.k12.or.us/event/suntex-board-meeting/2028-01-06/
CATEGORIES:Board Meeting
END:VEVENT
BEGIN:VEVENT
DTSTART;TZID=UTC:20280111T190000
DTEND;TZID=UTC:20280111T200000
DTSTAMP:20260420T094842
CREATED:20221012T030938Z
LAST-MODIFIED:20240621T204231Z
UID:10000562-1831230000-1831233600@harneyesd.k12.or.us
SUMMARY:Pine Creek School Board Meeting
DESCRIPTION:
URL:https://harneyesd.k12.or.us/event/pine-creek-school-board-meeting/2028-01-11/
LOCATION:Pine Creek Elementary School
CATEGORIES:Board Meeting
END:VEVENT
BEGIN:VEVENT
DTSTART;TZID=America/Los_Angeles:20280112T180000
DTEND;TZID=America/Los_Angeles:20280112T193000
DTSTAMP:20260420T094842
CREATED:20260203T193710Z
LAST-MODIFIED:20260203T193806Z
UID:10001149-1831312800-1831318200@harneyesd.k12.or.us
SUMMARY:Drewsey School Board Meeting
DESCRIPTION:
URL:https://harneyesd.k12.or.us/event/drewsey-school-district-board-meeting/2028-01-12/
LOCATION:Drewsey School House\, 78834 Drewsey Rd\, Drewsey\, OR\, 97904\, United States
END:VEVENT
BEGIN:VEVENT
DTSTART;TZID=America/Los_Angeles:20280119T133000
DTEND;TZID=America/Los_Angeles:20280119T150000
DTSTAMP:20260420T094842
CREATED:20250822T192950Z
LAST-MODIFIED:20250822T192951Z
UID:10001014-1831901400-1831906800@harneyesd.k12.or.us
SUMMARY:Harney ESD Board Meeting
DESCRIPTION:Google Meet joining info\nVideo call link: https://meet.google.com/pqz-xgra-psf\nOr dial: ‪(US) +1 601-869-6045‬ PIN: ‪245 789 704‬#
URL:https://harneyesd.k12.or.us/event/harney-esd-2-2/2028-01-19/
LOCATION:Harney ESD\, 25 Fairview Heights Loop\, Burns\, Oregon\, 97720\, United States
END:VEVENT
BEGIN:VEVENT
DTSTART;TZID=UTC:20280119T190000
DTEND;TZID=UTC:20280119T200000
DTSTAMP:20260420T094842
CREATED:20220526T115813Z
LAST-MODIFIED:20240621T204426Z
UID:10000643-1831921200-1831924800@harneyesd.k12.or.us
SUMMARY:Double O School Board Meeting
DESCRIPTION:
URL:https://harneyesd.k12.or.us/event/double-o-board-meeting-4/2028-01-19/
LOCATION:Hines\, OR
CATEGORIES:Board Meeting
END:VEVENT
BEGIN:VEVENT
DTSTART;TZID=UTC:20280203T190000
DTEND;TZID=UTC:20280203T210000
DTSTAMP:20260420T094842
CREATED:20220831T031756Z
LAST-MODIFIED:20240730T210538Z
UID:10000427-1833217200-1833224400@harneyesd.k12.or.us
SUMMARY:Suntex School Board Meeting
DESCRIPTION:
URL:https://harneyesd.k12.or.us/event/suntex-board-meeting/2028-02-03/
CATEGORIES:Board Meeting
END:VEVENT
BEGIN:VEVENT
DTSTART;TZID=UTC:20280208T190000
DTEND;TZID=UTC:20280208T200000
DTSTAMP:20260420T094842
CREATED:20221012T030938Z
LAST-MODIFIED:20240621T204231Z
UID:10000563-1833649200-1833652800@harneyesd.k12.or.us
SUMMARY:Pine Creek School Board Meeting
DESCRIPTION:
URL:https://harneyesd.k12.or.us/event/pine-creek-school-board-meeting/2028-02-08/
LOCATION:Pine Creek Elementary School
CATEGORIES:Board Meeting
END:VEVENT
BEGIN:VEVENT
DTSTART;TZID=America/Los_Angeles:20280209T180000
DTEND;TZID=America/Los_Angeles:20280209T193000
DTSTAMP:20260420T094842
CREATED:20260203T193710Z
LAST-MODIFIED:20260203T193806Z
UID:10001150-1833732000-1833737400@harneyesd.k12.or.us
SUMMARY:Drewsey School Board Meeting
DESCRIPTION:
URL:https://harneyesd.k12.or.us/event/drewsey-school-district-board-meeting/2028-02-09/
LOCATION:Drewsey School House\, 78834 Drewsey Rd\, Drewsey\, OR\, 97904\, United States
END:VEVENT
END:VCALENDAR