BEGIN:VCALENDAR
VERSION:2.0
PRODID:-//Harney ESD - ECPv6.15.20//NONSGML v1.0//EN
CALSCALE:GREGORIAN
METHOD:PUBLISH
X-WR-CALNAME:Harney ESD
X-ORIGINAL-URL:https://harneyesd.k12.or.us
X-WR-CALDESC:Events for Harney ESD
REFRESH-INTERVAL;VALUE=DURATION:PT1H
X-Robots-Tag:noindex
X-PUBLISHED-TTL:PT1H
BEGIN:VTIMEZONE
TZID:America/Los_Angeles
BEGIN:DAYLIGHT
TZOFFSETFROM:-0800
TZOFFSETTO:-0700
TZNAME:PDT
DTSTART:20220313T100000
END:DAYLIGHT
BEGIN:STANDARD
TZOFFSETFROM:-0700
TZOFFSETTO:-0800
TZNAME:PST
DTSTART:20221106T090000
END:STANDARD
BEGIN:DAYLIGHT
TZOFFSETFROM:-0800
TZOFFSETTO:-0700
TZNAME:PDT
DTSTART:20230312T100000
END:DAYLIGHT
BEGIN:STANDARD
TZOFFSETFROM:-0700
TZOFFSETTO:-0800
TZNAME:PST
DTSTART:20231105T090000
END:STANDARD
BEGIN:DAYLIGHT
TZOFFSETFROM:-0800
TZOFFSETTO:-0700
TZNAME:PDT
DTSTART:20240310T100000
END:DAYLIGHT
BEGIN:STANDARD
TZOFFSETFROM:-0700
TZOFFSETTO:-0800
TZNAME:PST
DTSTART:20241103T090000
END:STANDARD
BEGIN:DAYLIGHT
TZOFFSETFROM:-0800
TZOFFSETTO:-0700
TZNAME:PDT
DTSTART:20250309T100000
END:DAYLIGHT
BEGIN:STANDARD
TZOFFSETFROM:-0700
TZOFFSETTO:-0800
TZNAME:PST
DTSTART:20251102T090000
END:STANDARD
END:VTIMEZONE
BEGIN:VTIMEZONE
TZID:UTC
BEGIN:STANDARD
TZOFFSETFROM:+0000
TZOFFSETTO:+0000
TZNAME:UTC
DTSTART:20220101T000000
END:STANDARD
END:VTIMEZONE
BEGIN:VEVENT
DTSTART;TZID=America/Los_Angeles:20240626T120000
DTEND;TZID=America/Los_Angeles:20240626T130000
DTSTAMP:20260419T185212
CREATED:20240620T195128Z
LAST-MODIFIED:20240621T203425Z
UID:10000653-1719403200-1719406800@harneyesd.k12.or.us
SUMMARY:DOUBLE O SCHOOL SPECIAL BOARD MEETING
DESCRIPTION:DOUBLE O SCHOOL SPECIAL BOARD MEETING PACKET \n  \nJoin the meeting virtually: Double O School Special Board Meeting\nWednesday\, June 26 · 12:00 – 1:00pm\nTime zone: America/Los_Angeles\nGoogle Meet joining info\nVideo call link: https://meet.google.com/pkf-rqvb-kcj\nOr dial: ‪(US) +1 573-360-1114‬ PIN: ‪184 236 347‬#
URL:https://harneyesd.k12.or.us/event/double-o-school-special-board-meeting/
LOCATION:Harney ESD\, 25 Fairview Heights Loop\, Burns\, Oregon\, 97720\, United States
END:VEVENT
BEGIN:VEVENT
DTSTART;TZID=America/Los_Angeles:20240624T120000
DTEND;TZID=America/Los_Angeles:20240624T130000
DTSTAMP:20260419T185212
CREATED:20240618T183303Z
LAST-MODIFIED:20240621T203049Z
UID:10000652-1719230400-1719234000@harneyesd.k12.or.us
SUMMARY:CUHS Supplemental Budget Hearing
DESCRIPTION:CUHS Supplemental Notice \nJoin the meeting virtually:CUHS Supplemental Budget Hearing\nMonday\, June 24 · 12:00 – 1:00pm\nTime zone: America/Los_Angeles\nGoogle Meet joining info\nVideo call link: https://meet.google.com/zzo-rzzi-sum\nOr dial: ‪(US) +1 347-773-4290‬ PIN: ‪216 789 289‬#
URL:https://harneyesd.k12.or.us/event/cuhs-supplemental-budget-hearing/
LOCATION:Harney ESD\, 25 Fairview Heights Loop\, Burns\, Oregon\, 97720\, United States
END:VEVENT
BEGIN:VEVENT
DTSTART;TZID=UTC:20240619T190000
DTEND;TZID=UTC:20240619T200000
DTSTAMP:20260419T185212
CREATED:20220526T115813Z
LAST-MODIFIED:20240621T204426Z
UID:10000600-1718823600-1718827200@harneyesd.k12.or.us
SUMMARY:Double O School Board Meeting
DESCRIPTION:
URL:https://harneyesd.k12.or.us/event/double-o-board-meeting-4/2024-06-19/
LOCATION:Hines\, OR
CATEGORIES:Board Meeting
END:VEVENT
BEGIN:VEVENT
DTSTART;TZID=America/Los_Angeles:20240612T203000
DTEND;TZID=America/Los_Angeles:20240612T213000
DTSTAMP:20260419T185212
CREATED:20220831T032933Z
LAST-MODIFIED:20240911T192713Z
UID:10000722-1718224200-1718227800@harneyesd.k12.or.us
SUMMARY:Harney ESD Board Meeting
DESCRIPTION:
URL:https://harneyesd.k12.or.us/event/harney-esd/2024-06-12/
LOCATION:OR
END:VEVENT
BEGIN:VEVENT
DTSTART;TZID=UTC:20240611T190000
DTEND;TZID=UTC:20240611T200000
DTSTAMP:20260419T185212
CREATED:20221012T030938Z
LAST-MODIFIED:20240621T204231Z
UID:10000519-1718132400-1718136000@harneyesd.k12.or.us
SUMMARY:Pine Creek School Board Meeting
DESCRIPTION:
URL:https://harneyesd.k12.or.us/event/pine-creek-school-board-meeting/2024-06-11/
LOCATION:Pine Creek Elementary School
CATEGORIES:Board Meeting
END:VEVENT
BEGIN:VEVENT
DTSTART;TZID=UTC:20240606T190000
DTEND;TZID=UTC:20240606T210000
DTSTAMP:20260419T185212
CREATED:20220831T031756Z
LAST-MODIFIED:20240730T210538Z
UID:10000383-1717700400-1717707600@harneyesd.k12.or.us
SUMMARY:Suntex School Board Meeting
DESCRIPTION:
URL:https://harneyesd.k12.or.us/event/suntex-board-meeting/2024-06-06/
LOCATION:OR
CATEGORIES:Board Meeting
END:VEVENT
BEGIN:VEVENT
DTSTART;TZID=UTC:20240521T130000
DTEND;TZID=UTC:20240521T140000
DTSTAMP:20260419T185213
CREATED:20240513T202039Z
LAST-MODIFIED:20240513T202039Z
UID:10000651-1716296400-1716300000@harneyesd.k12.or.us
SUMMARY:Harney ESD Board Meeting
DESCRIPTION:
URL:https://harneyesd.k12.or.us/event/harney-esd-board-meeting-2/
LOCATION:Harney ESD\, 25 Fairview Heights Loop\, Burns\, Oregon\, 97720\, United States
END:VEVENT
BEGIN:VEVENT
DTSTART;TZID=UTC:20240521T123000
DTEND;TZID=UTC:20240521T130000
DTSTAMP:20260419T185213
CREATED:20240513T201940Z
LAST-MODIFIED:20240513T201940Z
UID:10000650-1716294600-1716296400@harneyesd.k12.or.us
SUMMARY:Harney ESD Budget Board Meeting
DESCRIPTION:
URL:https://harneyesd.k12.or.us/event/harney-esd-budget-board-meeting-2/
LOCATION:Harney ESD\, 25 Fairview Heights Loop\, Burns\, Oregon\, 97720\, United States
END:VEVENT
BEGIN:VEVENT
DTSTART;TZID=UTC:20240515T190000
DTEND;TZID=UTC:20240515T200000
DTSTAMP:20260419T185213
CREATED:20220526T115813Z
LAST-MODIFIED:20240621T204426Z
UID:10000599-1715799600-1715803200@harneyesd.k12.or.us
SUMMARY:Double O School Board Meeting
DESCRIPTION:
URL:https://harneyesd.k12.or.us/event/double-o-board-meeting-4/2024-05-15/
LOCATION:Hines\, OR
CATEGORIES:Board Meeting
END:VEVENT
BEGIN:VEVENT
DTSTART;TZID=UTC:20240514T190000
DTEND;TZID=UTC:20240514T200000
DTSTAMP:20260419T185213
CREATED:20221012T030938Z
LAST-MODIFIED:20240621T204231Z
UID:10000518-1715713200-1715716800@harneyesd.k12.or.us
SUMMARY:Pine Creek School Board Meeting
DESCRIPTION:
URL:https://harneyesd.k12.or.us/event/pine-creek-school-board-meeting/2024-05-14/
LOCATION:Pine Creek Elementary School
CATEGORIES:Board Meeting
END:VEVENT
BEGIN:VEVENT
DTSTART;TZID=America/Los_Angeles:20240508T203000
DTEND;TZID=America/Los_Angeles:20240508T213000
DTSTAMP:20260419T185213
CREATED:20220831T032933Z
LAST-MODIFIED:20240911T192713Z
UID:10000721-1715200200-1715203800@harneyesd.k12.or.us
SUMMARY:Harney ESD Board Meeting
DESCRIPTION:
URL:https://harneyesd.k12.or.us/event/harney-esd/2024-05-08/
LOCATION:OR
END:VEVENT
BEGIN:VEVENT
DTSTART;TZID=UTC:20240502T190000
DTEND;TZID=UTC:20240502T210000
DTSTAMP:20260419T185213
CREATED:20220831T031756Z
LAST-MODIFIED:20240730T210538Z
UID:10000382-1714676400-1714683600@harneyesd.k12.or.us
SUMMARY:Suntex School Board Meeting
DESCRIPTION:
URL:https://harneyesd.k12.or.us/event/suntex-board-meeting/2024-05-02/
LOCATION:OR
CATEGORIES:Board Meeting
END:VEVENT
BEGIN:VEVENT
DTSTART;TZID=UTC:20240417T190000
DTEND;TZID=UTC:20240417T200000
DTSTAMP:20260419T185213
CREATED:20220526T115813Z
LAST-MODIFIED:20240621T204426Z
UID:10000598-1713380400-1713384000@harneyesd.k12.or.us
SUMMARY:Double O School Board Meeting
DESCRIPTION:
URL:https://harneyesd.k12.or.us/event/double-o-board-meeting-4/2024-04-17/
LOCATION:Hines\, OR
CATEGORIES:Board Meeting
END:VEVENT
BEGIN:VEVENT
DTSTART;TZID=America/Los_Angeles:20240410T203000
DTEND;TZID=America/Los_Angeles:20240410T213000
DTSTAMP:20260419T185213
CREATED:20220831T032933Z
LAST-MODIFIED:20240911T192713Z
UID:10000720-1712781000-1712784600@harneyesd.k12.or.us
SUMMARY:Harney ESD Board Meeting
DESCRIPTION:
URL:https://harneyesd.k12.or.us/event/harney-esd/2024-04-10/
LOCATION:OR
END:VEVENT
BEGIN:VEVENT
DTSTART;TZID=UTC:20240409T190000
DTEND;TZID=UTC:20240409T200000
DTSTAMP:20260419T185213
CREATED:20221012T030938Z
LAST-MODIFIED:20240621T204231Z
UID:10000517-1712689200-1712692800@harneyesd.k12.or.us
SUMMARY:Pine Creek School Board Meeting
DESCRIPTION:
URL:https://harneyesd.k12.or.us/event/pine-creek-school-board-meeting/2024-04-09/
LOCATION:Pine Creek Elementary School
CATEGORIES:Board Meeting
END:VEVENT
BEGIN:VEVENT
DTSTART;TZID=UTC:20240404T190000
DTEND;TZID=UTC:20240404T210000
DTSTAMP:20260419T185213
CREATED:20220831T031756Z
LAST-MODIFIED:20240730T210538Z
UID:10000381-1712257200-1712264400@harneyesd.k12.or.us
SUMMARY:Suntex School Board Meeting
DESCRIPTION:
URL:https://harneyesd.k12.or.us/event/suntex-board-meeting/2024-04-04/
LOCATION:OR
CATEGORIES:Board Meeting
END:VEVENT
BEGIN:VEVENT
DTSTART;TZID=UTC:20240320T190000
DTEND;TZID=UTC:20240320T200000
DTSTAMP:20260419T185213
CREATED:20220526T115813Z
LAST-MODIFIED:20240621T204426Z
UID:10000597-1710961200-1710964800@harneyesd.k12.or.us
SUMMARY:Double O School Board Meeting
DESCRIPTION:
URL:https://harneyesd.k12.or.us/event/double-o-board-meeting-4/2024-03-20/
LOCATION:Hines\, OR
CATEGORIES:Board Meeting
END:VEVENT
BEGIN:VEVENT
DTSTART;TZID=America/Los_Angeles:20240313T203000
DTEND;TZID=America/Los_Angeles:20240313T213000
DTSTAMP:20260419T185213
CREATED:20220831T032933Z
LAST-MODIFIED:20240911T192713Z
UID:10000719-1710361800-1710365400@harneyesd.k12.or.us
SUMMARY:Harney ESD Board Meeting
DESCRIPTION:
URL:https://harneyesd.k12.or.us/event/harney-esd/2024-03-13/
LOCATION:OR
END:VEVENT
BEGIN:VEVENT
DTSTART;TZID=UTC:20240312T190000
DTEND;TZID=UTC:20240312T200000
DTSTAMP:20260419T185213
CREATED:20221012T030938Z
LAST-MODIFIED:20240621T204231Z
UID:10000516-1710270000-1710273600@harneyesd.k12.or.us
SUMMARY:Pine Creek School Board Meeting
DESCRIPTION:
URL:https://harneyesd.k12.or.us/event/pine-creek-school-board-meeting/2024-03-12/
LOCATION:Pine Creek Elementary School
CATEGORIES:Board Meeting
END:VEVENT
BEGIN:VEVENT
DTSTART;TZID=UTC:20240307T190000
DTEND;TZID=UTC:20240307T210000
DTSTAMP:20260419T185213
CREATED:20220831T031756Z
LAST-MODIFIED:20240730T210538Z
UID:10000380-1709838000-1709845200@harneyesd.k12.or.us
SUMMARY:Suntex School Board Meeting
DESCRIPTION:
URL:https://harneyesd.k12.or.us/event/suntex-board-meeting/2024-03-07/
LOCATION:OR
CATEGORIES:Board Meeting
END:VEVENT
BEGIN:VEVENT
DTSTART;TZID=UTC:20240221T190000
DTEND;TZID=UTC:20240221T200000
DTSTAMP:20260419T185213
CREATED:20220526T115813Z
LAST-MODIFIED:20240621T204426Z
UID:10000596-1708542000-1708545600@harneyesd.k12.or.us
SUMMARY:Double O School Board Meeting
DESCRIPTION:
URL:https://harneyesd.k12.or.us/event/double-o-board-meeting-4/2024-02-21/
LOCATION:Hines\, OR
CATEGORIES:Board Meeting
END:VEVENT
BEGIN:VEVENT
DTSTART;TZID=America/Los_Angeles:20240214T203000
DTEND;TZID=America/Los_Angeles:20240214T213000
DTSTAMP:20260419T185213
CREATED:20220831T032933Z
LAST-MODIFIED:20240911T192713Z
UID:10000718-1707942600-1707946200@harneyesd.k12.or.us
SUMMARY:Harney ESD Board Meeting
DESCRIPTION:
URL:https://harneyesd.k12.or.us/event/harney-esd/2024-02-14/
LOCATION:OR
END:VEVENT
BEGIN:VEVENT
DTSTART;TZID=UTC:20240213T190000
DTEND;TZID=UTC:20240213T200000
DTSTAMP:20260419T185213
CREATED:20221012T030938Z
LAST-MODIFIED:20240621T204231Z
UID:10000515-1707850800-1707854400@harneyesd.k12.or.us
SUMMARY:Pine Creek School Board Meeting
DESCRIPTION:
URL:https://harneyesd.k12.or.us/event/pine-creek-school-board-meeting/2024-02-13/
LOCATION:Pine Creek Elementary School
CATEGORIES:Board Meeting
END:VEVENT
BEGIN:VEVENT
DTSTART;TZID=UTC:20240201T190000
DTEND;TZID=UTC:20240201T210000
DTSTAMP:20260419T185213
CREATED:20220831T031756Z
LAST-MODIFIED:20240730T210538Z
UID:10000379-1706814000-1706821200@harneyesd.k12.or.us
SUMMARY:Suntex School Board Meeting
DESCRIPTION:
URL:https://harneyesd.k12.or.us/event/suntex-board-meeting/2024-02-01/
LOCATION:OR
CATEGORIES:Board Meeting
END:VEVENT
BEGIN:VEVENT
DTSTART;TZID=UTC:20240117T190000
DTEND;TZID=UTC:20240117T200000
DTSTAMP:20260419T185213
CREATED:20220526T115813Z
LAST-MODIFIED:20240621T204426Z
UID:10000595-1705518000-1705521600@harneyesd.k12.or.us
SUMMARY:Double O School Board Meeting
DESCRIPTION:
URL:https://harneyesd.k12.or.us/event/double-o-board-meeting-4/2024-01-17/
LOCATION:Hines\, OR
CATEGORIES:Board Meeting
END:VEVENT
BEGIN:VEVENT
DTSTART;TZID=America/Los_Angeles:20240110T203000
DTEND;TZID=America/Los_Angeles:20240110T213000
DTSTAMP:20260419T185213
CREATED:20220831T032933Z
LAST-MODIFIED:20240911T192713Z
UID:10000717-1704918600-1704922200@harneyesd.k12.or.us
SUMMARY:Harney ESD Board Meeting
DESCRIPTION:
URL:https://harneyesd.k12.or.us/event/harney-esd/2024-01-10/
LOCATION:OR
END:VEVENT
BEGIN:VEVENT
DTSTART;TZID=UTC:20240109T190000
DTEND;TZID=UTC:20240109T200000
DTSTAMP:20260419T185213
CREATED:20221012T030938Z
LAST-MODIFIED:20240621T204231Z
UID:10000514-1704826800-1704830400@harneyesd.k12.or.us
SUMMARY:Pine Creek School Board Meeting
DESCRIPTION:
URL:https://harneyesd.k12.or.us/event/pine-creek-school-board-meeting/2024-01-09/
LOCATION:Pine Creek Elementary School
CATEGORIES:Board Meeting
END:VEVENT
BEGIN:VEVENT
DTSTART;TZID=UTC:20240104T190000
DTEND;TZID=UTC:20240104T210000
DTSTAMP:20260419T185213
CREATED:20220831T031756Z
LAST-MODIFIED:20240730T210538Z
UID:10000378-1704394800-1704402000@harneyesd.k12.or.us
SUMMARY:Suntex School Board Meeting
DESCRIPTION:
URL:https://harneyesd.k12.or.us/event/suntex-board-meeting/2024-01-04/
LOCATION:OR
CATEGORIES:Board Meeting
END:VEVENT
BEGIN:VEVENT
DTSTART;TZID=UTC:20231220T190000
DTEND;TZID=UTC:20231220T200000
DTSTAMP:20260419T185213
CREATED:20220526T115813Z
LAST-MODIFIED:20240621T204426Z
UID:10000594-1703098800-1703102400@harneyesd.k12.or.us
SUMMARY:Double O School Board Meeting
DESCRIPTION:
URL:https://harneyesd.k12.or.us/event/double-o-board-meeting-4/2023-12-20/
LOCATION:Hines\, OR
CATEGORIES:Board Meeting
END:VEVENT
BEGIN:VEVENT
DTSTART;TZID=America/Los_Angeles:20231213T203000
DTEND;TZID=America/Los_Angeles:20231213T213000
DTSTAMP:20260419T185213
CREATED:20220831T032933Z
LAST-MODIFIED:20240911T192713Z
UID:10000716-1702499400-1702503000@harneyesd.k12.or.us
SUMMARY:Harney ESD Board Meeting
DESCRIPTION:
URL:https://harneyesd.k12.or.us/event/harney-esd/2023-12-13/
LOCATION:OR
END:VEVENT
END:VCALENDAR