BEGIN:VCALENDAR
VERSION:2.0
PRODID:-//Harney ESD - ECPv6.15.20//NONSGML v1.0//EN
CALSCALE:GREGORIAN
METHOD:PUBLISH
X-WR-CALNAME:Harney ESD
X-ORIGINAL-URL:https://harneyesd.k12.or.us
X-WR-CALDESC:Events for Harney ESD
REFRESH-INTERVAL;VALUE=DURATION:PT1H
X-Robots-Tag:noindex
X-PUBLISHED-TTL:PT1H
BEGIN:VTIMEZONE
TZID:UTC
BEGIN:STANDARD
TZOFFSETFROM:+0000
TZOFFSETTO:+0000
TZNAME:UTC
DTSTART:20240101T000000
END:STANDARD
END:VTIMEZONE
BEGIN:VTIMEZONE
TZID:America/Los_Angeles
BEGIN:DAYLIGHT
TZOFFSETFROM:-0800
TZOFFSETTO:-0700
TZNAME:PDT
DTSTART:20240310T100000
END:DAYLIGHT
BEGIN:STANDARD
TZOFFSETFROM:-0700
TZOFFSETTO:-0800
TZNAME:PST
DTSTART:20241103T090000
END:STANDARD
BEGIN:DAYLIGHT
TZOFFSETFROM:-0800
TZOFFSETTO:-0700
TZNAME:PDT
DTSTART:20250309T100000
END:DAYLIGHT
BEGIN:STANDARD
TZOFFSETFROM:-0700
TZOFFSETTO:-0800
TZNAME:PST
DTSTART:20251102T090000
END:STANDARD
BEGIN:DAYLIGHT
TZOFFSETFROM:-0800
TZOFFSETTO:-0700
TZNAME:PDT
DTSTART:20260308T100000
END:DAYLIGHT
BEGIN:STANDARD
TZOFFSETFROM:-0700
TZOFFSETTO:-0800
TZNAME:PST
DTSTART:20261101T090000
END:STANDARD
BEGIN:DAYLIGHT
TZOFFSETFROM:-0800
TZOFFSETTO:-0700
TZNAME:PDT
DTSTART:20270314T100000
END:DAYLIGHT
BEGIN:STANDARD
TZOFFSETFROM:-0700
TZOFFSETTO:-0800
TZNAME:PST
DTSTART:20271107T090000
END:STANDARD
END:VTIMEZONE
BEGIN:VEVENT
DTSTART;TZID=UTC:20260210T190000
DTEND;TZID=UTC:20260210T200000
DTSTAMP:20260419T210407
CREATED:20221012T030938Z
LAST-MODIFIED:20240621T204231Z
UID:10000539-1770750000-1770753600@harneyesd.k12.or.us
SUMMARY:Pine Creek School Board Meeting
DESCRIPTION:
URL:https://harneyesd.k12.or.us/event/pine-creek-school-board-meeting/2026-02-10/
LOCATION:Pine Creek Elementary School
CATEGORIES:Board Meeting
END:VEVENT
BEGIN:VEVENT
DTSTART;TZID=UTC:20260205T190000
DTEND;TZID=UTC:20260205T210000
DTSTAMP:20260419T210407
CREATED:20220831T031756Z
LAST-MODIFIED:20240730T210538Z
UID:10000403-1770318000-1770325200@harneyesd.k12.or.us
SUMMARY:Suntex School Board Meeting
DESCRIPTION:
URL:https://harneyesd.k12.or.us/event/suntex-board-meeting/2026-02-05/
LOCATION:OR
CATEGORIES:Board Meeting
END:VEVENT
BEGIN:VEVENT
DTSTART;TZID=America/Los_Angeles:20260203T173000
DTEND;TZID=America/Los_Angeles:20260203T200000
DTSTAMP:20260419T210407
CREATED:20260127T211500Z
LAST-MODIFIED:20260130T205723Z
UID:10001113-1770139800-1770148800@harneyesd.k12.or.us
SUMMARY:Harney ESD Board Work Session
DESCRIPTION:Google Meet joining info\nVideo call link: https://meet.google.com/pqz-xgra-psf\nOr dial: ‪(US) +1 601-869-6045‬ PIN: ‪245 789 704‬#
URL:https://harneyesd.k12.or.us/event/hesd-board-work-session/
LOCATION:Harney ESD\, 25 Fairview Heights Loop\, Burns\, Oregon\, 97720\, United States
END:VEVENT
BEGIN:VEVENT
DTSTART;TZID=America/Los_Angeles:20260126T110000
DTEND;TZID=America/Los_Angeles:20260126T120000
DTSTAMP:20260419T210407
CREATED:20260121T225430Z
LAST-MODIFIED:20260121T225536Z
UID:10000990-1769425200-1769428800@harneyesd.k12.or.us
SUMMARY:Harney ESD Board Meeting
DESCRIPTION:Google Meet joining info\nVideo call link: https://meet.google.com/pqz-xgra-psf\nOr dial: ‪(US) +1 601-869-6045‬ PIN: ‪245 789 704‬#
URL:https://harneyesd.k12.or.us/event/harney-esd-board-meeting-10/
LOCATION:Harney ESD\, 25 Fairview Heights Loop\, Burns\, Oregon\, 97720\, United States
END:VEVENT
BEGIN:VEVENT
DTSTART;TZID=UTC:20260121T190000
DTEND;TZID=UTC:20260121T200000
DTSTAMP:20260419T210407
CREATED:20220526T115813Z
LAST-MODIFIED:20240621T204426Z
UID:10000619-1769022000-1769025600@harneyesd.k12.or.us
SUMMARY:Double O School Board Meeting
DESCRIPTION:
URL:https://harneyesd.k12.or.us/event/double-o-board-meeting-4/2026-01-21/
LOCATION:Hines\, OR
CATEGORIES:Board Meeting
END:VEVENT
BEGIN:VEVENT
DTSTART;TZID=UTC:20260113T190000
DTEND;TZID=UTC:20260113T200000
DTSTAMP:20260419T210407
CREATED:20221012T030938Z
LAST-MODIFIED:20240621T204231Z
UID:10000538-1768330800-1768334400@harneyesd.k12.or.us
SUMMARY:Pine Creek School Board Meeting
DESCRIPTION:
URL:https://harneyesd.k12.or.us/event/pine-creek-school-board-meeting/2026-01-13/
LOCATION:Pine Creek Elementary School
CATEGORIES:Board Meeting
END:VEVENT
BEGIN:VEVENT
DTSTART;TZID=UTC:20260108T190000
DTEND;TZID=UTC:20260108T210000
DTSTAMP:20260419T210407
CREATED:20251222T191544Z
LAST-MODIFIED:20251222T191557Z
UID:10000402-1767898800-1767906000@harneyesd.k12.or.us
SUMMARY:Suntex School Board Meeting
DESCRIPTION:
URL:https://harneyesd.k12.or.us/event/suntex-school-board-meeting-7/
LOCATION:OR
CATEGORIES:Board Meeting
END:VEVENT
BEGIN:VEVENT
DTSTART;TZID=UTC:20251218T170000
DTEND;TZID=UTC:20251218T173000
DTSTAMP:20260419T210407
CREATED:20251210T185706Z
LAST-MODIFIED:20251210T185745Z
UID:10000537-1766077200-1766079000@harneyesd.k12.or.us
SUMMARY:Pine Creek School Board Meeting
DESCRIPTION:
URL:https://harneyesd.k12.or.us/event/pine-creek-school-board-meeting-6/
LOCATION:Pine Creek Elementary School
CATEGORIES:Board Meeting
END:VEVENT
BEGIN:VEVENT
DTSTART;TZID=America/Los_Angeles:20251216T150000
DTEND;TZID=America/Los_Angeles:20251216T163000
DTSTAMP:20260419T210407
CREATED:20251202T234520Z
LAST-MODIFIED:20251202T234535Z
UID:10000989-1765897200-1765902600@harneyesd.k12.or.us
SUMMARY:Harney ESD Board Meeting
DESCRIPTION:Google Meet joining info\nVideo call link: https://meet.google.com/pqz-xgra-psf\nOr dial: ‪(US) +1 601-869-6045‬ PIN: ‪245 789 704‬#
URL:https://harneyesd.k12.or.us/event/harney-esd-board-meeting-9/
LOCATION:Harney ESD\, 25 Fairview Heights Loop\, Burns\, Oregon\, 97720\, United States
END:VEVENT
BEGIN:VEVENT
DTSTART;TZID=UTC:20251215T180000
DTEND;TZID=UTC:20251215T190000
DTSTAMP:20260419T210407
CREATED:20251202T234424Z
LAST-MODIFIED:20251210T190129Z
UID:10000618-1765821600-1765825200@harneyesd.k12.or.us
SUMMARY:Double O School Board Meeting
DESCRIPTION:
URL:https://harneyesd.k12.or.us/event/double-o-school-board-meeting-5/
LOCATION:Hines\, OR
CATEGORIES:Board Meeting
END:VEVENT
BEGIN:VEVENT
DTSTART;TZID=America/Los_Angeles:20251211T180000
DTEND;TZID=America/Los_Angeles:20251211T190000
DTSTAMP:20260419T210407
CREATED:20251202T234613Z
LAST-MODIFIED:20251203T000824Z
UID:10000929-1765476000-1765479600@harneyesd.k12.or.us
SUMMARY:Drewsey School District Board Meeting
DESCRIPTION:
URL:https://harneyesd.k12.or.us/event/drewsey-school-district-board-meeting-4/
LOCATION:Drewsey School House\, 78834 Drewsey Rd\, Drewsey\, OR\, 97904\, United States
END:VEVENT
BEGIN:VEVENT
DTSTART;TZID=UTC:20251204T190000
DTEND;TZID=UTC:20251204T210000
DTSTAMP:20260419T210407
CREATED:20220831T031756Z
LAST-MODIFIED:20240730T210538Z
UID:10000401-1764874800-1764882000@harneyesd.k12.or.us
SUMMARY:Suntex School Board Meeting
DESCRIPTION:
URL:https://harneyesd.k12.or.us/event/suntex-board-meeting/2025-12-04/
LOCATION:OR
CATEGORIES:Board Meeting
END:VEVENT
BEGIN:VEVENT
DTSTART;TZID=UTC:20251125T190000
DTEND;TZID=UTC:20251125T200000
DTSTAMP:20260419T210407
CREATED:20251112T200745Z
LAST-MODIFIED:20251112T200809Z
UID:10000617-1764097200-1764100800@harneyesd.k12.or.us
SUMMARY:Double O School Board Meeting
DESCRIPTION:
URL:https://harneyesd.k12.or.us/event/double-o-school-board-meeting-4/
LOCATION:Hines\, OR
CATEGORIES:Board Meeting
END:VEVENT
BEGIN:VEVENT
DTSTART;TZID=America/Los_Angeles:20251124T180000
DTEND;TZID=America/Los_Angeles:20251124T190000
DTSTAMP:20260419T210407
CREATED:20251112T200521Z
LAST-MODIFIED:20251112T200538Z
UID:10000928-1764007200-1764010800@harneyesd.k12.or.us
SUMMARY:Drewsey School District Board Meeting
DESCRIPTION:
URL:https://harneyesd.k12.or.us/event/drewsey-school-district-board-meeting-3/
LOCATION:Drewsey School House\, 78834 Drewsey Rd\, Drewsey\, OR\, 97904\, United States
END:VEVENT
BEGIN:VEVENT
DTSTART;TZID=America/Los_Angeles:20251124T133000
DTEND;TZID=America/Los_Angeles:20251124T150000
DTSTAMP:20260419T210407
CREATED:20251112T200640Z
LAST-MODIFIED:20251112T200654Z
UID:10000988-1763991000-1763996400@harneyesd.k12.or.us
SUMMARY:Harney ESD Board Meeting
DESCRIPTION:Google Meet joining info\nVideo call link: https://meet.google.com/pqz-xgra-psf\nOr dial: ‪(US) +1 601-869-6045‬ PIN: ‪245 789 704‬#
URL:https://harneyesd.k12.or.us/event/harney-esd-board-meeting-8/
LOCATION:Harney ESD\, 25 Fairview Heights Loop\, Burns\, Oregon\, 97720\, United States
END:VEVENT
BEGIN:VEVENT
DTSTART;TZID=UTC:20251111T190000
DTEND;TZID=UTC:20251111T200000
DTSTAMP:20260419T210407
CREATED:20221012T030938Z
LAST-MODIFIED:20240621T204231Z
UID:10000536-1762887600-1762891200@harneyesd.k12.or.us
SUMMARY:Pine Creek School Board Meeting
DESCRIPTION:
URL:https://harneyesd.k12.or.us/event/pine-creek-school-board-meeting/2025-11-11/
LOCATION:Pine Creek Elementary School
CATEGORIES:Board Meeting
END:VEVENT
BEGIN:VEVENT
DTSTART;TZID=UTC:20251106T190000
DTEND;TZID=UTC:20251106T210000
DTSTAMP:20260419T210407
CREATED:20220831T031756Z
LAST-MODIFIED:20240730T210538Z
UID:10000400-1762455600-1762462800@harneyesd.k12.or.us
SUMMARY:Suntex School Board Meeting
DESCRIPTION:
URL:https://harneyesd.k12.or.us/event/suntex-board-meeting/2025-11-06/
LOCATION:OR
CATEGORIES:Board Meeting
END:VEVENT
BEGIN:VEVENT
DTSTART;TZID=America/Los_Angeles:20251029T183000
DTEND;TZID=America/Los_Angeles:20251029T203000
DTSTAMP:20260419T210407
CREATED:20250509T173219Z
LAST-MODIFIED:20250509T173219Z
UID:10000859-1761762600-1761769800@harneyesd.k12.or.us
SUMMARY:2025 OSBA Legislative Roadshow
DESCRIPTION:Please join us for the 2025 OSBA Legislative Roadshow \nDinner – 6:30 p.m. to 7:00 p.m. \nMeeting begins at 7:00 p.m.
URL:https://harneyesd.k12.or.us/event/2025-osba-legislative-roadshow/
LOCATION:Harney ESD\, 25 Fairview Heights Loop\, Burns\, Oregon\, 97720\, United States
END:VEVENT
BEGIN:VEVENT
DTSTART;TZID=America/Los_Angeles:20251016T180000
DTEND;TZID=America/Los_Angeles:20251016T180000
DTSTAMP:20260419T210407
CREATED:20251008T225654Z
LAST-MODIFIED:20251008T225822Z
UID:10000927-1760637600-1760637600@harneyesd.k12.or.us
SUMMARY:Drewsey School District Board Meeting
DESCRIPTION:
URL:https://harneyesd.k12.or.us/event/drewsey-school-district-board-meeting-2/
LOCATION:Drewsey School House\, 78834 Drewsey Rd\, Drewsey\, OR\, 97904\, United States
END:VEVENT
BEGIN:VEVENT
DTSTART;TZID=UTC:20251015T190000
DTEND;TZID=UTC:20251015T200000
DTSTAMP:20260419T210407
CREATED:20220526T115813Z
LAST-MODIFIED:20240621T204426Z
UID:10000616-1760554800-1760558400@harneyesd.k12.or.us
SUMMARY:Double O School Board Meeting
DESCRIPTION:
URL:https://harneyesd.k12.or.us/event/double-o-board-meeting-4/2025-10-15/
LOCATION:Hines\, OR
CATEGORIES:Board Meeting
END:VEVENT
BEGIN:VEVENT
DTSTART;TZID=America/Los_Angeles:20251015T133000
DTEND;TZID=America/Los_Angeles:20251015T150000
DTSTAMP:20260419T210407
CREATED:20250822T192950Z
LAST-MODIFIED:20250822T192951Z
UID:10000987-1760535000-1760540400@harneyesd.k12.or.us
SUMMARY:Harney ESD Board Meeting
DESCRIPTION:Google Meet joining info\nVideo call link: https://meet.google.com/pqz-xgra-psf\nOr dial: ‪(US) +1 601-869-6045‬ PIN: ‪245 789 704‬#
URL:https://harneyesd.k12.or.us/event/harney-esd-2-2/2025-10-15/
LOCATION:Harney ESD\, 25 Fairview Heights Loop\, Burns\, Oregon\, 97720\, United States
END:VEVENT
BEGIN:VEVENT
DTSTART;TZID=America/Los_Angeles:20251015T130000
DTEND;TZID=America/Los_Angeles:20251015T133000
DTSTAMP:20260419T210407
CREATED:20251007T174528Z
LAST-MODIFIED:20251007T174627Z
UID:10001046-1760533200-1760535000@harneyesd.k12.or.us
SUMMARY:Harney ESD Board Work Session
DESCRIPTION:Google Meet joining info\nVideo call link: https://meet.google.com/pqz-xgra-psf\nOr dial: ‪(US) +1 601-869-6045‬ PIN: ‪245 789 704‬#
URL:https://harneyesd.k12.or.us/event/board-work-session/
LOCATION:Harney ESD\, 25 Fairview Heights Loop\, Burns\, Oregon\, 97720\, United States
END:VEVENT
BEGIN:VEVENT
DTSTART;TZID=UTC:20251014T190000
DTEND;TZID=UTC:20251014T200000
DTSTAMP:20260419T210407
CREATED:20221012T030938Z
LAST-MODIFIED:20240621T204231Z
UID:10000535-1760468400-1760472000@harneyesd.k12.or.us
SUMMARY:Pine Creek School Board Meeting
DESCRIPTION:
URL:https://harneyesd.k12.or.us/event/pine-creek-school-board-meeting/2025-10-14/
LOCATION:Pine Creek Elementary School
CATEGORIES:Board Meeting
END:VEVENT
BEGIN:VEVENT
DTSTART;TZID=UTC:20251002T190000
DTEND;TZID=UTC:20251002T210000
DTSTAMP:20260419T210407
CREATED:20220831T031756Z
LAST-MODIFIED:20240730T210538Z
UID:10000399-1759431600-1759438800@harneyesd.k12.or.us
SUMMARY:Suntex School Board Meeting
DESCRIPTION:
URL:https://harneyesd.k12.or.us/event/suntex-board-meeting/2025-10-02/
LOCATION:OR
CATEGORIES:Board Meeting
END:VEVENT
BEGIN:VEVENT
DTSTART;TZID=UTC:20250917T190000
DTEND;TZID=UTC:20250917T200000
DTSTAMP:20260419T210407
CREATED:20220526T115813Z
LAST-MODIFIED:20240621T204426Z
UID:10000615-1758135600-1758139200@harneyesd.k12.or.us
SUMMARY:Double O School Board Meeting
DESCRIPTION:
URL:https://harneyesd.k12.or.us/event/double-o-board-meeting-4/2025-09-17/
LOCATION:Hines\, OR
CATEGORIES:Board Meeting
END:VEVENT
BEGIN:VEVENT
DTSTART;TZID=America/Los_Angeles:20250917T133000
DTEND;TZID=America/Los_Angeles:20250917T150000
DTSTAMP:20260419T210407
CREATED:20250822T192950Z
LAST-MODIFIED:20250822T192951Z
UID:10000794-1758115800-1758121200@harneyesd.k12.or.us
SUMMARY:Harney ESD Board Meeting
DESCRIPTION:Google Meet joining info\nVideo call link: https://meet.google.com/pqz-xgra-psf\nOr dial: ‪(US) +1 601-869-6045‬ PIN: ‪245 789 704‬#
URL:https://harneyesd.k12.or.us/event/harney-esd-2-2/2025-09-17/
LOCATION:Harney ESD\, 25 Fairview Heights Loop\, Burns\, Oregon\, 97720\, United States
END:VEVENT
BEGIN:VEVENT
DTSTART;TZID=UTC:20250909T190000
DTEND;TZID=UTC:20250909T200000
DTSTAMP:20260419T210407
CREATED:20221012T030938Z
LAST-MODIFIED:20240621T204231Z
UID:10000534-1757444400-1757448000@harneyesd.k12.or.us
SUMMARY:Pine Creek School Board Meeting
DESCRIPTION:
URL:https://harneyesd.k12.or.us/event/pine-creek-school-board-meeting/2025-09-09/
LOCATION:Pine Creek Elementary School
CATEGORIES:Board Meeting
END:VEVENT
BEGIN:VEVENT
DTSTART;TZID=UTC:20250904T190000
DTEND;TZID=UTC:20250904T210000
DTSTAMP:20260419T210407
CREATED:20220831T031756Z
LAST-MODIFIED:20240730T210538Z
UID:10000398-1757012400-1757019600@harneyesd.k12.or.us
SUMMARY:Suntex School Board Meeting
DESCRIPTION:
URL:https://harneyesd.k12.or.us/event/suntex-board-meeting/2025-09-04/
LOCATION:OR
CATEGORIES:Board Meeting
END:VEVENT
BEGIN:VEVENT
DTSTART;TZID=UTC:20250820T190000
DTEND;TZID=UTC:20250820T200000
DTSTAMP:20260419T210407
CREATED:20220526T115813Z
LAST-MODIFIED:20240621T204426Z
UID:10000614-1755716400-1755720000@harneyesd.k12.or.us
SUMMARY:Double O School Board Meeting
DESCRIPTION:
URL:https://harneyesd.k12.or.us/event/double-o-board-meeting-4/2025-08-20/
LOCATION:Hines\, OR
CATEGORIES:Board Meeting
END:VEVENT
BEGIN:VEVENT
DTSTART;TZID=America/Los_Angeles:20250820T133000
DTEND;TZID=America/Los_Angeles:20250820T150000
DTSTAMP:20260419T210407
CREATED:20250818T173037Z
LAST-MODIFIED:20250818T173052Z
UID:10000793-1755696600-1755702000@harneyesd.k12.or.us
SUMMARY:Harney ESD Board Meeting
DESCRIPTION:Google Meet joining info\nVideo call link: https://meet.google.com/pqz-xgra-psf\nOr dial: ‪(US) +1 601-869-6045‬ PIN: ‪245 789 704‬#
URL:https://harneyesd.k12.or.us/event/harney-esd-board-meeting-7/
LOCATION:Harney ESD\, 25 Fairview Heights Loop\, Burns\, Oregon\, 97720\, United States
END:VEVENT
END:VCALENDAR