BEGIN:VCALENDAR
VERSION:2.0
PRODID:-//Harney ESD - ECPv6.15.20//NONSGML v1.0//EN
CALSCALE:GREGORIAN
METHOD:PUBLISH
X-WR-CALNAME:Harney ESD
X-ORIGINAL-URL:https://harneyesd.k12.or.us
X-WR-CALDESC:Events for Harney ESD
REFRESH-INTERVAL;VALUE=DURATION:PT1H
X-Robots-Tag:noindex
X-PUBLISHED-TTL:PT1H
BEGIN:VTIMEZONE
TZID:UTC
BEGIN:STANDARD
TZOFFSETFROM:+0000
TZOFFSETTO:+0000
TZNAME:UTC
DTSTART:20250101T000000
END:STANDARD
END:VTIMEZONE
BEGIN:VTIMEZONE
TZID:America/Los_Angeles
BEGIN:DAYLIGHT
TZOFFSETFROM:-0800
TZOFFSETTO:-0700
TZNAME:PDT
DTSTART:20250309T100000
END:DAYLIGHT
BEGIN:STANDARD
TZOFFSETFROM:-0700
TZOFFSETTO:-0800
TZNAME:PST
DTSTART:20251102T090000
END:STANDARD
BEGIN:DAYLIGHT
TZOFFSETFROM:-0800
TZOFFSETTO:-0700
TZNAME:PDT
DTSTART:20260308T100000
END:DAYLIGHT
BEGIN:STANDARD
TZOFFSETFROM:-0700
TZOFFSETTO:-0800
TZNAME:PST
DTSTART:20261101T090000
END:STANDARD
BEGIN:DAYLIGHT
TZOFFSETFROM:-0800
TZOFFSETTO:-0700
TZNAME:PDT
DTSTART:20270314T100000
END:DAYLIGHT
BEGIN:STANDARD
TZOFFSETFROM:-0700
TZOFFSETTO:-0800
TZNAME:PST
DTSTART:20271107T090000
END:STANDARD
END:VTIMEZONE
BEGIN:VEVENT
DTSTART;TZID=UTC:20260806T190000
DTEND;TZID=UTC:20260806T210000
DTSTAMP:20260419T210056
CREATED:20220831T031756Z
LAST-MODIFIED:20240730T210538Z
UID:10000409-1786042800-1786050000@harneyesd.k12.or.us
SUMMARY:Suntex School Board Meeting
DESCRIPTION:
URL:https://harneyesd.k12.or.us/event/suntex-board-meeting/2026-08-06/
CATEGORIES:Board Meeting
END:VEVENT
BEGIN:VEVENT
DTSTART;TZID=UTC:20260715T190000
DTEND;TZID=UTC:20260715T200000
DTSTAMP:20260419T210056
CREATED:20220526T115813Z
LAST-MODIFIED:20240621T204426Z
UID:10000625-1784142000-1784145600@harneyesd.k12.or.us
SUMMARY:Double O School Board Meeting
DESCRIPTION:
URL:https://harneyesd.k12.or.us/event/double-o-board-meeting-4/2026-07-15/
LOCATION:Hines\, OR
CATEGORIES:Board Meeting
END:VEVENT
BEGIN:VEVENT
DTSTART;TZID=America/Los_Angeles:20260715T133000
DTEND;TZID=America/Los_Angeles:20260715T150000
DTSTAMP:20260419T210056
CREATED:20250822T192950Z
LAST-MODIFIED:20250822T192951Z
UID:10000996-1784122200-1784127600@harneyesd.k12.or.us
SUMMARY:Harney ESD Board Meeting
DESCRIPTION:Google Meet joining info\nVideo call link: https://meet.google.com/pqz-xgra-psf\nOr dial: ‪(US) +1 601-869-6045‬ PIN: ‪245 789 704‬#
URL:https://harneyesd.k12.or.us/event/harney-esd-2-2/2026-07-15/
LOCATION:Harney ESD\, 25 Fairview Heights Loop\, Burns\, Oregon\, 97720\, United States
END:VEVENT
BEGIN:VEVENT
DTSTART;TZID=UTC:20260714T190000
DTEND;TZID=UTC:20260714T200000
DTSTAMP:20260419T210056
CREATED:20221012T030938Z
LAST-MODIFIED:20240621T204231Z
UID:10000544-1784055600-1784059200@harneyesd.k12.or.us
SUMMARY:Pine Creek School Board Meeting
DESCRIPTION:
URL:https://harneyesd.k12.or.us/event/pine-creek-school-board-meeting/2026-07-14/
LOCATION:Pine Creek Elementary School
CATEGORIES:Board Meeting
END:VEVENT
BEGIN:VEVENT
DTSTART;TZID=America/Los_Angeles:20260708T180000
DTEND;TZID=America/Los_Angeles:20260708T193000
DTSTAMP:20260419T210056
CREATED:20260203T193710Z
LAST-MODIFIED:20260203T193806Z
UID:10001131-1783533600-1783539000@harneyesd.k12.or.us
SUMMARY:Drewsey School Board Meeting
DESCRIPTION:
URL:https://harneyesd.k12.or.us/event/drewsey-school-district-board-meeting/2026-07-08/
LOCATION:Drewsey School House\, 78834 Drewsey Rd\, Drewsey\, OR\, 97904\, United States
END:VEVENT
BEGIN:VEVENT
DTSTART;TZID=UTC:20260702T190000
DTEND;TZID=UTC:20260702T210000
DTSTAMP:20260419T210056
CREATED:20220831T031756Z
LAST-MODIFIED:20240730T210538Z
UID:10000408-1783018800-1783026000@harneyesd.k12.or.us
SUMMARY:Suntex School Board Meeting
DESCRIPTION:
URL:https://harneyesd.k12.or.us/event/suntex-board-meeting/2026-07-02/
CATEGORIES:Board Meeting
END:VEVENT
BEGIN:VEVENT
DTSTART;TZID=UTC:20260617T190000
DTEND;TZID=UTC:20260617T200000
DTSTAMP:20260419T210056
CREATED:20220526T115813Z
LAST-MODIFIED:20240621T204426Z
UID:10000624-1781722800-1781726400@harneyesd.k12.or.us
SUMMARY:Double O School Board Meeting
DESCRIPTION:
URL:https://harneyesd.k12.or.us/event/double-o-board-meeting-4/2026-06-17/
LOCATION:Hines\, OR
CATEGORIES:Board Meeting
END:VEVENT
BEGIN:VEVENT
DTSTART;TZID=America/Los_Angeles:20260617T133000
DTEND;TZID=America/Los_Angeles:20260617T150000
DTSTAMP:20260419T210056
CREATED:20250822T192950Z
LAST-MODIFIED:20250822T192951Z
UID:10000995-1781703000-1781708400@harneyesd.k12.or.us
SUMMARY:Harney ESD Board Meeting
DESCRIPTION:Google Meet joining info\nVideo call link: https://meet.google.com/pqz-xgra-psf\nOr dial: ‪(US) +1 601-869-6045‬ PIN: ‪245 789 704‬#
URL:https://harneyesd.k12.or.us/event/harney-esd-2-2/2026-06-17/
LOCATION:Harney ESD\, 25 Fairview Heights Loop\, Burns\, Oregon\, 97720\, United States
END:VEVENT
BEGIN:VEVENT
DTSTART;TZID=America/Los_Angeles:20260610T180000
DTEND;TZID=America/Los_Angeles:20260610T193000
DTSTAMP:20260419T210056
CREATED:20260203T193710Z
LAST-MODIFIED:20260203T193806Z
UID:10001130-1781114400-1781119800@harneyesd.k12.or.us
SUMMARY:Drewsey School Board Meeting
DESCRIPTION:
URL:https://harneyesd.k12.or.us/event/drewsey-school-district-board-meeting/2026-06-10/
LOCATION:Drewsey School House\, 78834 Drewsey Rd\, Drewsey\, OR\, 97904\, United States
END:VEVENT
BEGIN:VEVENT
DTSTART;TZID=UTC:20260609T190000
DTEND;TZID=UTC:20260609T200000
DTSTAMP:20260419T210056
CREATED:20221012T030938Z
LAST-MODIFIED:20240621T204231Z
UID:10000543-1781031600-1781035200@harneyesd.k12.or.us
SUMMARY:Pine Creek School Board Meeting
DESCRIPTION:
URL:https://harneyesd.k12.or.us/event/pine-creek-school-board-meeting/2026-06-09/
LOCATION:Pine Creek Elementary School
CATEGORIES:Board Meeting
END:VEVENT
BEGIN:VEVENT
DTSTART;TZID=UTC:20260604T190000
DTEND;TZID=UTC:20260604T210000
DTSTAMP:20260419T210056
CREATED:20220831T031756Z
LAST-MODIFIED:20240730T210538Z
UID:10000407-1780599600-1780606800@harneyesd.k12.or.us
SUMMARY:Suntex School Board Meeting
DESCRIPTION:
URL:https://harneyesd.k12.or.us/event/suntex-board-meeting/2026-06-04/
CATEGORIES:Board Meeting
END:VEVENT
BEGIN:VEVENT
DTSTART;TZID=UTC:20260520T190000
DTEND;TZID=UTC:20260520T200000
DTSTAMP:20260419T210056
CREATED:20220526T115813Z
LAST-MODIFIED:20240621T204426Z
UID:10000623-1779303600-1779307200@harneyesd.k12.or.us
SUMMARY:Double O School Board Meeting
DESCRIPTION:
URL:https://harneyesd.k12.or.us/event/double-o-board-meeting-4/2026-05-20/
LOCATION:Hines\, OR
CATEGORIES:Board Meeting
END:VEVENT
BEGIN:VEVENT
DTSTART;TZID=America/Los_Angeles:20260520T133000
DTEND;TZID=America/Los_Angeles:20260520T150000
DTSTAMP:20260419T210056
CREATED:20250822T192950Z
LAST-MODIFIED:20250822T192951Z
UID:10000994-1779283800-1779289200@harneyesd.k12.or.us
SUMMARY:Harney ESD Board Meeting
DESCRIPTION:Google Meet joining info\nVideo call link: https://meet.google.com/pqz-xgra-psf\nOr dial: ‪(US) +1 601-869-6045‬ PIN: ‪245 789 704‬#
URL:https://harneyesd.k12.or.us/event/harney-esd-2-2/2026-05-20/
LOCATION:Harney ESD\, 25 Fairview Heights Loop\, Burns\, Oregon\, 97720\, United States
END:VEVENT
BEGIN:VEVENT
DTSTART;TZID=America/Los_Angeles:20260513T180000
DTEND;TZID=America/Los_Angeles:20260513T193000
DTSTAMP:20260419T210056
CREATED:20260203T193710Z
LAST-MODIFIED:20260203T193806Z
UID:10001129-1778695200-1778700600@harneyesd.k12.or.us
SUMMARY:Drewsey School Board Meeting
DESCRIPTION:
URL:https://harneyesd.k12.or.us/event/drewsey-school-district-board-meeting/2026-05-13/
LOCATION:Drewsey School House\, 78834 Drewsey Rd\, Drewsey\, OR\, 97904\, United States
END:VEVENT
BEGIN:VEVENT
DTSTART;TZID=America/Los_Angeles:20260513T170000
DTEND;TZID=America/Los_Angeles:20260513T180000
DTSTAMP:20260419T210056
CREATED:20260313T192632Z
LAST-MODIFIED:20260415T223934Z
UID:10001189-1778691600-1778695200@harneyesd.k12.or.us
SUMMARY:Drewsey School Budget Board Meeting
DESCRIPTION:
URL:https://harneyesd.k12.or.us/event/drewsey-school-budget-board-meeting/
LOCATION:Drewsey School House\, 78834 Drewsey Rd\, Drewsey\, OR\, 97904\, United States
END:VEVENT
BEGIN:VEVENT
DTSTART;TZID=UTC:20260512T190000
DTEND;TZID=UTC:20260512T200000
DTSTAMP:20260419T210056
CREATED:20221012T030938Z
LAST-MODIFIED:20240621T204231Z
UID:10000542-1778612400-1778616000@harneyesd.k12.or.us
SUMMARY:Pine Creek School Board Meeting
DESCRIPTION:
URL:https://harneyesd.k12.or.us/event/pine-creek-school-board-meeting/2026-05-12/
LOCATION:Pine Creek Elementary School
CATEGORIES:Board Meeting
END:VEVENT
BEGIN:VEVENT
DTSTART;TZID=America/Los_Angeles:20260512T180000
DTEND;TZID=America/Los_Angeles:20260512T190000
DTSTAMP:20260419T210056
CREATED:20260313T192727Z
LAST-MODIFIED:20260313T192727Z
UID:10001190-1778608800-1778612400@harneyesd.k12.or.us
SUMMARY:Pine Creek School Budget Board Meeting
DESCRIPTION:
URL:https://harneyesd.k12.or.us/event/pine-creek-school-budget-board-meeting/
END:VEVENT
BEGIN:VEVENT
DTSTART;TZID=UTC:20260507T190000
DTEND;TZID=UTC:20260507T210000
DTSTAMP:20260419T210056
CREATED:20220831T031756Z
LAST-MODIFIED:20240730T210538Z
UID:10000406-1778180400-1778187600@harneyesd.k12.or.us
SUMMARY:Suntex School Board Meeting
DESCRIPTION:
URL:https://harneyesd.k12.or.us/event/suntex-board-meeting/2026-05-07/
CATEGORIES:Board Meeting
END:VEVENT
BEGIN:VEVENT
DTSTART;TZID=America/Los_Angeles:20260507T180000
DTEND;TZID=America/Los_Angeles:20260507T190000
DTSTAMP:20260419T210056
CREATED:20260313T192444Z
LAST-MODIFIED:20260313T192542Z
UID:10001188-1778176800-1778180400@harneyesd.k12.or.us
SUMMARY:Suntex School Budget Board Meeting
DESCRIPTION:
URL:https://harneyesd.k12.or.us/event/suntex-school-district-budget-board-meeting/
LOCATION:Suntex Elementary School\, 68178 Silver Creek Rd\, Riley\, Oregon\, 97758
END:VEVENT
BEGIN:VEVENT
DTSTART;TZID=UTC:20260416T190000
DTEND;TZID=UTC:20260416T200000
DTSTAMP:20260419T210056
CREATED:20260407T162620Z
LAST-MODIFIED:20260407T163056Z
UID:10000541-1776366000-1776369600@harneyesd.k12.or.us
SUMMARY:Pine Creek School Board Meeting
DESCRIPTION:
URL:https://harneyesd.k12.or.us/event/pine-creek-school-board-meeting-7/
LOCATION:Pine Creek Elementary School
CATEGORIES:Board Meeting
END:VEVENT
BEGIN:VEVENT
DTSTART;TZID=UTC:20260415T190000
DTEND;TZID=UTC:20260415T200000
DTSTAMP:20260419T210056
CREATED:20220526T115813Z
LAST-MODIFIED:20240621T204426Z
UID:10000622-1776279600-1776283200@harneyesd.k12.or.us
SUMMARY:Double O School Board Meeting
DESCRIPTION:
URL:https://harneyesd.k12.or.us/event/double-o-board-meeting-4/2026-04-15/
LOCATION:Hines\, OR
CATEGORIES:Board Meeting
END:VEVENT
BEGIN:VEVENT
DTSTART;TZID=America/Los_Angeles:20260415T123000
DTEND;TZID=America/Los_Angeles:20260415T133000
DTSTAMP:20260419T210056
CREATED:20260415T193037Z
LAST-MODIFIED:20260415T163453Z
UID:10000993-1776256200-1776259800@harneyesd.k12.or.us
SUMMARY:Harney ESD Board Meeting
DESCRIPTION:Google Meet joining info Video call link: https://meet.google.com/pqz-xgra-psf Or dial: ‪(US) +1 601-869-6045‬ PIN: ‪245 789 704‬# \nMeeting will take place at 12:30 pm.HESD APRIL 2026 AGENDA (4)
URL:https://harneyesd.k12.or.us/event/harney-esd-board-meeting-11/
LOCATION:Harney ESD\, 25 Fairview Heights Loop\, Burns\, Oregon\, 97720\, United States
CATEGORIES:Board Meeting
END:VEVENT
BEGIN:VEVENT
DTSTART;TZID=America/Los_Angeles:20260410T080000
DTEND;TZID=America/Los_Angeles:20260410T090000
DTSTAMP:20260419T210056
CREATED:20260408T212830Z
LAST-MODIFIED:20260409T221316Z
UID:10001192-1775808000-1775811600@harneyesd.k12.or.us
SUMMARY:Harney ESD Special Board Meeting
DESCRIPTION:Harney ESD Special Board Meeting\nFriday\, April 10th · Begins at 8:00 am\nTime zone: America/Los_Angeles\nPlease see attachment for meeting details. \nHESD APRIL 10 SPECIAL BOARD MEETING (1) \nTo Join
URL:https://harneyesd.k12.or.us/event/harney-esd-special-board-meeting-2/
CATEGORIES:Board Meeting
END:VEVENT
BEGIN:VEVENT
DTSTART;TZID=America/Los_Angeles:20260408T180000
DTEND;TZID=America/Los_Angeles:20260408T193000
DTSTAMP:20260419T210056
CREATED:20260203T193710Z
LAST-MODIFIED:20260203T193806Z
UID:10001128-1775671200-1775676600@harneyesd.k12.or.us
SUMMARY:Drewsey School Board Meeting
DESCRIPTION:
URL:https://harneyesd.k12.or.us/event/drewsey-school-district-board-meeting/2026-04-08/
LOCATION:Drewsey School House\, 78834 Drewsey Rd\, Drewsey\, OR\, 97904\, United States
END:VEVENT
BEGIN:VEVENT
DTSTART;TZID=UTC:20260402T190000
DTEND;TZID=UTC:20260402T210000
DTSTAMP:20260419T210056
CREATED:20220831T031756Z
LAST-MODIFIED:20240730T210538Z
UID:10000405-1775156400-1775163600@harneyesd.k12.or.us
SUMMARY:Suntex School Board Meeting
DESCRIPTION:
URL:https://harneyesd.k12.or.us/event/suntex-board-meeting/2026-04-02/
CATEGORIES:Board Meeting
END:VEVENT
BEGIN:VEVENT
DTSTART;TZID=America/Los_Angeles:20260331T123000
DTEND;TZID=America/Los_Angeles:20260331T130000
DTSTAMP:20260419T210056
CREATED:20260330T165712Z
LAST-MODIFIED:20260330T165712Z
UID:10001191-1774960200-1774962000@harneyesd.k12.or.us
SUMMARY:Harney ESD Special Board Meeting
DESCRIPTION:Harney ESD Special Board Meeting\nWednesday\, March 31 · 12:30 – 1:00pm\nTime zone: America/Los_Angeles\nGoogle Meet joining info\nVideo call link: https://meet.google.com/ejb-uzwx-yzr\nOr dial: ‪(US) +1 346-314-0380‬ PIN: ‪114 396 869‬#\nMore phone numbers: https://tel.meet/ejb-uzwx-yzr?pin=5062872161847
URL:https://harneyesd.k12.or.us/event/harney-esd-special-board-meeting/
LOCATION:Harney ESD\, 25 Fairview Heights Loop\, Burns\, Oregon\, 97720\, United States
END:VEVENT
BEGIN:VEVENT
DTSTART;TZID=UTC:20260318T190000
DTEND;TZID=UTC:20260318T200000
DTSTAMP:20260419T210056
CREATED:20220526T115813Z
LAST-MODIFIED:20240621T204426Z
UID:10000621-1773860400-1773864000@harneyesd.k12.or.us
SUMMARY:Double O School Board Meeting
DESCRIPTION:
URL:https://harneyesd.k12.or.us/event/double-o-board-meeting-4/2026-03-18/
LOCATION:Hines\, OR
CATEGORIES:Board Meeting
END:VEVENT
BEGIN:VEVENT
DTSTART;TZID=America/Los_Angeles:20260318T133000
DTEND;TZID=America/Los_Angeles:20260318T150000
DTSTAMP:20260419T210056
CREATED:20250822T192950Z
LAST-MODIFIED:20250822T192951Z
UID:10000992-1773840600-1773846000@harneyesd.k12.or.us
SUMMARY:Harney ESD Board Meeting
DESCRIPTION:Google Meet joining info\nVideo call link: https://meet.google.com/pqz-xgra-psf\nOr dial: ‪(US) +1 601-869-6045‬ PIN: ‪245 789 704‬#
URL:https://harneyesd.k12.or.us/event/harney-esd-2-2/2026-03-18/
LOCATION:Harney ESD\, 25 Fairview Heights Loop\, Burns\, Oregon\, 97720\, United States
END:VEVENT
BEGIN:VEVENT
DTSTART;TZID=America/Los_Angeles:20260311T180000
DTEND;TZID=America/Los_Angeles:20260311T193000
DTSTAMP:20260419T210056
CREATED:20260203T193710Z
LAST-MODIFIED:20260203T193806Z
UID:10001127-1773252000-1773257400@harneyesd.k12.or.us
SUMMARY:Drewsey School Board Meeting
DESCRIPTION:
URL:https://harneyesd.k12.or.us/event/drewsey-school-district-board-meeting/2026-03-11/
LOCATION:Drewsey School House\, 78834 Drewsey Rd\, Drewsey\, OR\, 97904\, United States
END:VEVENT
BEGIN:VEVENT
DTSTART;TZID=UTC:20260310T190000
DTEND;TZID=UTC:20260310T200000
DTSTAMP:20260419T210056
CREATED:20221012T030938Z
LAST-MODIFIED:20240621T204231Z
UID:10000540-1773169200-1773172800@harneyesd.k12.or.us
SUMMARY:Pine Creek School Board Meeting
DESCRIPTION:
URL:https://harneyesd.k12.or.us/event/pine-creek-school-board-meeting/2026-03-10/
LOCATION:Pine Creek Elementary School
CATEGORIES:Board Meeting
END:VEVENT
END:VCALENDAR