BEGIN:VCALENDAR
VERSION:2.0
PRODID:-//Harney ESD - ECPv6.15.20//NONSGML v1.0//EN
CALSCALE:GREGORIAN
METHOD:PUBLISH
X-WR-CALNAME:Harney ESD
X-ORIGINAL-URL:https://harneyesd.k12.or.us
X-WR-CALDESC:Events for Harney ESD
REFRESH-INTERVAL;VALUE=DURATION:PT1H
X-Robots-Tag:noindex
X-PUBLISHED-TTL:PT1H
BEGIN:VTIMEZONE
TZID:UTC
BEGIN:STANDARD
TZOFFSETFROM:+0000
TZOFFSETTO:+0000
TZNAME:UTC
DTSTART:20230101T000000
END:STANDARD
END:VTIMEZONE
BEGIN:VTIMEZONE
TZID:America/Los_Angeles
BEGIN:DAYLIGHT
TZOFFSETFROM:-0800
TZOFFSETTO:-0700
TZNAME:PDT
DTSTART:20230312T100000
END:DAYLIGHT
BEGIN:STANDARD
TZOFFSETFROM:-0700
TZOFFSETTO:-0800
TZNAME:PST
DTSTART:20231105T090000
END:STANDARD
BEGIN:DAYLIGHT
TZOFFSETFROM:-0800
TZOFFSETTO:-0700
TZNAME:PDT
DTSTART:20240310T100000
END:DAYLIGHT
BEGIN:STANDARD
TZOFFSETFROM:-0700
TZOFFSETTO:-0800
TZNAME:PST
DTSTART:20241103T090000
END:STANDARD
BEGIN:DAYLIGHT
TZOFFSETFROM:-0800
TZOFFSETTO:-0700
TZNAME:PDT
DTSTART:20250309T100000
END:DAYLIGHT
BEGIN:STANDARD
TZOFFSETFROM:-0700
TZOFFSETTO:-0800
TZNAME:PST
DTSTART:20251102T090000
END:STANDARD
BEGIN:DAYLIGHT
TZOFFSETFROM:-0800
TZOFFSETTO:-0700
TZNAME:PDT
DTSTART:20260308T100000
END:DAYLIGHT
BEGIN:STANDARD
TZOFFSETFROM:-0700
TZOFFSETTO:-0800
TZNAME:PST
DTSTART:20261101T090000
END:STANDARD
END:VTIMEZONE
BEGIN:VEVENT
DTSTART;TZID=UTC:20250403T190000
DTEND;TZID=UTC:20250403T210000
DTSTAMP:20260419T105556
CREATED:20220831T031756Z
LAST-MODIFIED:20240730T210538Z
UID:10000393-1743706800-1743714000@harneyesd.k12.or.us
SUMMARY:Suntex School Board Meeting
DESCRIPTION:
URL:https://harneyesd.k12.or.us/event/suntex-board-meeting/2025-04-03/
CATEGORIES:Board Meeting
END:VEVENT
BEGIN:VEVENT
DTSTART;TZID=UTC:20250319T190000
DTEND;TZID=UTC:20250319T200000
DTSTAMP:20260419T105556
CREATED:20220526T115813Z
LAST-MODIFIED:20240621T204426Z
UID:10000609-1742410800-1742414400@harneyesd.k12.or.us
SUMMARY:Double O School Board Meeting
DESCRIPTION:
URL:https://harneyesd.k12.or.us/event/double-o-board-meeting-4/2025-03-19/
LOCATION:Hines\, OR
CATEGORIES:Board Meeting
END:VEVENT
BEGIN:VEVENT
DTSTART;TZID=America/Los_Angeles:20250312T133000
DTEND;TZID=America/Los_Angeles:20250312T150000
DTSTAMP:20260419T105556
CREATED:20240911T193010Z
LAST-MODIFIED:20240911T194418Z
UID:10000788-1741786200-1741791600@harneyesd.k12.or.us
SUMMARY:Harney ESD Board Meeting
DESCRIPTION:Google Meet joining info\nVideo call link: https://meet.google.com/pqz-xgra-psf\nOr dial: ‪(US) +1 601-869-6045‬ PIN: ‪245 789 704‬#
URL:https://harneyesd.k12.or.us/event/harney-esd-2/2025-03-12/
LOCATION:Harney ESD\, 25 Fairview Heights Loop\, Burns\, Oregon\, 97720\, United States
END:VEVENT
BEGIN:VEVENT
DTSTART;TZID=UTC:20250311T190000
DTEND;TZID=UTC:20250311T200000
DTSTAMP:20260419T105556
CREATED:20221012T030938Z
LAST-MODIFIED:20240621T204231Z
UID:10000528-1741719600-1741723200@harneyesd.k12.or.us
SUMMARY:Pine Creek School Board Meeting
DESCRIPTION:
URL:https://harneyesd.k12.or.us/event/pine-creek-school-board-meeting/2025-03-11/
LOCATION:Pine Creek Elementary School
CATEGORIES:Board Meeting
END:VEVENT
BEGIN:VEVENT
DTSTART;TZID=UTC:20250306T180000
DTEND;TZID=UTC:20250306T190000
DTSTAMP:20260419T105556
CREATED:20241021T204316Z
LAST-MODIFIED:20241021T204330Z
UID:10000392-1741284000-1741287600@harneyesd.k12.or.us
SUMMARY:Suntex School Board Meeting
DESCRIPTION:
URL:https://harneyesd.k12.or.us/event/suntex-school-board-meeting-5/
CATEGORIES:Board Meeting
END:VEVENT
BEGIN:VEVENT
DTSTART;TZID=UTC:20250219T190000
DTEND;TZID=UTC:20250219T200000
DTSTAMP:20260419T105556
CREATED:20220526T115813Z
LAST-MODIFIED:20240621T204426Z
UID:10000608-1739991600-1739995200@harneyesd.k12.or.us
SUMMARY:Double O School Board Meeting
DESCRIPTION:
URL:https://harneyesd.k12.or.us/event/double-o-board-meeting-4/2025-02-19/
LOCATION:Hines\, OR
CATEGORIES:Board Meeting
END:VEVENT
BEGIN:VEVENT
DTSTART;TZID=America/Los_Angeles:20250219T133000
DTEND;TZID=America/Los_Angeles:20250219T150000
DTSTAMP:20260419T105556
CREATED:20250210T215044Z
LAST-MODIFIED:20250210T215059Z
UID:10000787-1739971800-1739977200@harneyesd.k12.or.us
SUMMARY:Harney ESD Board Meeting
DESCRIPTION:Google Meet joining info\nVideo call link: https://meet.google.com/pqz-xgra-psf\nOr dial: ‪(US) +1 601-869-6045‬ PIN: ‪245 789 704‬#
URL:https://harneyesd.k12.or.us/event/harney-esd-board-meeting-5/
LOCATION:Harney ESD\, 25 Fairview Heights Loop\, Burns\, Oregon\, 97720\, United States
END:VEVENT
BEGIN:VEVENT
DTSTART;TZID=UTC:20250211T190000
DTEND;TZID=UTC:20250211T200000
DTSTAMP:20260419T105556
CREATED:20221012T030938Z
LAST-MODIFIED:20240621T204231Z
UID:10000527-1739300400-1739304000@harneyesd.k12.or.us
SUMMARY:Pine Creek School Board Meeting
DESCRIPTION:
URL:https://harneyesd.k12.or.us/event/pine-creek-school-board-meeting/2025-02-11/
LOCATION:Pine Creek Elementary School
CATEGORIES:Board Meeting
END:VEVENT
BEGIN:VEVENT
DTSTART;TZID=UTC:20250206T180000
DTEND;TZID=UTC:20250206T190000
DTSTAMP:20260419T105556
CREATED:20241021T204252Z
LAST-MODIFIED:20241021T204304Z
UID:10000391-1738864800-1738868400@harneyesd.k12.or.us
SUMMARY:Suntex School Board Meeting
DESCRIPTION:
URL:https://harneyesd.k12.or.us/event/suntex-school-board-meeting-4/
CATEGORIES:Board Meeting
END:VEVENT
BEGIN:VEVENT
DTSTART;TZID=America/Los_Angeles:20250116T160000
DTEND;TZID=America/Los_Angeles:20250116T180000
DTSTAMP:20260419T105556
CREATED:20250115T195016Z
LAST-MODIFIED:20250115T195016Z
UID:10000850-1737043200-1737050400@harneyesd.k12.or.us
SUMMARY:Suntex Elementary School Special Board Meeting
DESCRIPTION:
URL:https://harneyesd.k12.or.us/event/suntex-elementary-school-special-board-meeting/
LOCATION:Suntex Elementary School\, 68178 Silver Creek Rd\, Riley\, Oregon\, 97758
END:VEVENT
BEGIN:VEVENT
DTSTART;TZID=UTC:20250115T190000
DTEND;TZID=UTC:20250115T200000
DTSTAMP:20260419T105556
CREATED:20220526T115813Z
LAST-MODIFIED:20240621T204426Z
UID:10000607-1736967600-1736971200@harneyesd.k12.or.us
SUMMARY:Double O School Board Meeting
DESCRIPTION:
URL:https://harneyesd.k12.or.us/event/double-o-board-meeting-4/2025-01-15/
LOCATION:Hines\, OR
CATEGORIES:Board Meeting
END:VEVENT
BEGIN:VEVENT
DTSTART;TZID=UTC:20250114T190000
DTEND;TZID=UTC:20250114T200000
DTSTAMP:20260419T105556
CREATED:20221012T030938Z
LAST-MODIFIED:20240621T204231Z
UID:10000526-1736881200-1736884800@harneyesd.k12.or.us
SUMMARY:Pine Creek School Board Meeting
DESCRIPTION:
URL:https://harneyesd.k12.or.us/event/pine-creek-school-board-meeting/2025-01-14/
LOCATION:Pine Creek Elementary School
CATEGORIES:Board Meeting
END:VEVENT
BEGIN:VEVENT
DTSTART;TZID=America/Los_Angeles:20250108T133000
DTEND;TZID=America/Los_Angeles:20250108T150000
DTSTAMP:20260419T105556
CREATED:20240911T193010Z
LAST-MODIFIED:20240911T194418Z
UID:10000786-1736343000-1736348400@harneyesd.k12.or.us
SUMMARY:Harney ESD Board Meeting
DESCRIPTION:Google Meet joining info\nVideo call link: https://meet.google.com/pqz-xgra-psf\nOr dial: ‪(US) +1 601-869-6045‬ PIN: ‪245 789 704‬#
URL:https://harneyesd.k12.or.us/event/harney-esd-2/2025-01-08/
LOCATION:Harney ESD\, 25 Fairview Heights Loop\, Burns\, Oregon\, 97720\, United States
END:VEVENT
BEGIN:VEVENT
DTSTART;TZID=UTC:20250102T180000
DTEND;TZID=UTC:20250102T190000
DTSTAMP:20260419T105556
CREATED:20241021T204229Z
LAST-MODIFIED:20241021T204238Z
UID:10000390-1735840800-1735844400@harneyesd.k12.or.us
SUMMARY:Suntex School Board Meeting
DESCRIPTION:
URL:https://harneyesd.k12.or.us/event/suntex-school-board-meeting-3/
CATEGORIES:Board Meeting
END:VEVENT
BEGIN:VEVENT
DTSTART;TZID=America/Los_Angeles:20241216T190000
DTEND;TZID=America/Los_Angeles:20241216T200000
DTSTAMP:20260419T105556
CREATED:20241210T214454Z
LAST-MODIFIED:20241210T214454Z
UID:10000848-1734375600-1734379200@harneyesd.k12.or.us
SUMMARY:Pine Creek School Board Meeting
DESCRIPTION:
URL:https://harneyesd.k12.or.us/event/pine-creek-school-board-meeting-3/
END:VEVENT
BEGIN:VEVENT
DTSTART;TZID=America/Los_Angeles:20241212T173000
DTEND;TZID=America/Los_Angeles:20241212T180000
DTSTAMP:20260419T105556
CREATED:20241210T195452Z
LAST-MODIFIED:20241210T195452Z
UID:10000847-1734024600-1734026400@harneyesd.k12.or.us
SUMMARY:Double O School Board Meeting
DESCRIPTION:
URL:https://harneyesd.k12.or.us/event/double-o-school-board-meeting/
END:VEVENT
BEGIN:VEVENT
DTSTART;TZID=America/Los_Angeles:20241211T133000
DTEND;TZID=America/Los_Angeles:20241211T150000
DTSTAMP:20260419T105556
CREATED:20240911T193010Z
LAST-MODIFIED:20240911T194418Z
UID:10000785-1733923800-1733929200@harneyesd.k12.or.us
SUMMARY:Harney ESD Board Meeting
DESCRIPTION:Google Meet joining info\nVideo call link: https://meet.google.com/pqz-xgra-psf\nOr dial: ‪(US) +1 601-869-6045‬ PIN: ‪245 789 704‬#
URL:https://harneyesd.k12.or.us/event/harney-esd-2/2024-12-11/
LOCATION:Harney ESD\, 25 Fairview Heights Loop\, Burns\, Oregon\, 97720\, United States
END:VEVENT
BEGIN:VEVENT
DTSTART;TZID=UTC:20241205T180000
DTEND;TZID=UTC:20241205T190000
DTSTAMP:20260419T105556
CREATED:20241021T204207Z
LAST-MODIFIED:20241021T204217Z
UID:10000389-1733421600-1733425200@harneyesd.k12.or.us
SUMMARY:Suntex School Board Meeting
DESCRIPTION:
URL:https://harneyesd.k12.or.us/event/suntex-school-board-meeting-2/
CATEGORIES:Board Meeting
END:VEVENT
BEGIN:VEVENT
DTSTART;TZID=UTC:20241120T190000
DTEND;TZID=UTC:20241120T200000
DTSTAMP:20260419T105556
CREATED:20220526T115813Z
LAST-MODIFIED:20240621T204426Z
UID:10000605-1732129200-1732132800@harneyesd.k12.or.us
SUMMARY:Double O School Board Meeting
DESCRIPTION:
URL:https://harneyesd.k12.or.us/event/double-o-board-meeting-4/2024-11-20/
LOCATION:Hines\, OR
CATEGORIES:Board Meeting
END:VEVENT
BEGIN:VEVENT
DTSTART;TZID=America/Los_Angeles:20241113T160000
DTEND;TZID=America/Los_Angeles:20241113T170000
DTSTAMP:20260419T105556
CREATED:20241021T203856Z
LAST-MODIFIED:20241106T173321Z
UID:10000784-1731513600-1731517200@harneyesd.k12.or.us
SUMMARY:Harney ESD Board Meeting
DESCRIPTION:Google Meet joining info\nVideo call link: https://meet.google.com/pqz-xgra-psf\nOr dial: ‪(US) +1 601-869-6045‬ PIN: ‪245 789 704‬#
URL:https://harneyesd.k12.or.us/event/harney-esd-board-meeting-4/
LOCATION:Harney ESD\, 25 Fairview Heights Loop\, Burns\, Oregon\, 97720\, United States
END:VEVENT
BEGIN:VEVENT
DTSTART;TZID=UTC:20241107T180000
DTEND;TZID=UTC:20241107T190000
DTSTAMP:20260419T105556
CREATED:20241021T204130Z
LAST-MODIFIED:20241021T204146Z
UID:10000388-1731002400-1731006000@harneyesd.k12.or.us
SUMMARY:Suntex School Board Meeting
DESCRIPTION:
URL:https://harneyesd.k12.or.us/event/suntex-school-board-meeting/
CATEGORIES:Board Meeting
END:VEVENT
BEGIN:VEVENT
DTSTART;TZID=UTC:20241105T190000
DTEND;TZID=UTC:20241105T200000
DTSTAMP:20260419T105556
CREATED:20241021T203720Z
LAST-MODIFIED:20241021T203731Z
UID:10000524-1730833200-1730836800@harneyesd.k12.or.us
SUMMARY:Pine Creek School Board Meeting
DESCRIPTION:
URL:https://harneyesd.k12.or.us/event/pine-creek-school-board-meeting-2/
LOCATION:Pine Creek Elementary School
CATEGORIES:Board Meeting
END:VEVENT
BEGIN:VEVENT
DTSTART;TZID=UTC:20241016T190000
DTEND;TZID=UTC:20241016T200000
DTSTAMP:20260419T105556
CREATED:20220526T115813Z
LAST-MODIFIED:20240621T204426Z
UID:10000604-1729105200-1729108800@harneyesd.k12.or.us
SUMMARY:Double O School Board Meeting
DESCRIPTION:
URL:https://harneyesd.k12.or.us/event/double-o-board-meeting-4/2024-10-16/
LOCATION:Hines\, OR
CATEGORIES:Board Meeting
END:VEVENT
BEGIN:VEVENT
DTSTART;TZID=America/Los_Angeles:20241015T173000
DTEND;TZID=America/Los_Angeles:20241015T200000
DTSTAMP:20260419T105556
CREATED:20240911T194927Z
LAST-MODIFIED:20240911T194927Z
UID:10000844-1729013400-1729022400@harneyesd.k12.or.us
SUMMARY:OSBA Legislative Roadshow
DESCRIPTION:Dinner at 5:30 p.m.\nMeeting begins at 6:00 p.m.
URL:https://harneyesd.k12.or.us/event/osba-legislative-roadshow-2/
END:VEVENT
BEGIN:VEVENT
DTSTART;TZID=America/Los_Angeles:20241015T140000
DTEND;TZID=America/Los_Angeles:20241015T170000
DTSTAMP:20260419T105556
CREATED:20240911T194800Z
LAST-MODIFIED:20240911T194800Z
UID:10000843-1729000800-1729011600@harneyesd.k12.or.us
SUMMARY:OSBA Board Member Training
DESCRIPTION:
URL:https://harneyesd.k12.or.us/event/osba-board-member-training/
END:VEVENT
BEGIN:VEVENT
DTSTART;TZID=America/Los_Angeles:20241015T130000
DTEND;TZID=America/Los_Angeles:20241015T140000
DTSTAMP:20260419T105556
CREATED:20240911T194732Z
LAST-MODIFIED:20240911T194732Z
UID:10000842-1728997200-1729000800@harneyesd.k12.or.us
SUMMARY:Harney ESD Board Meeting
DESCRIPTION:Google Meet joining info\nVideo call link: https://meet.google.com/pqz-xgra-psf\nOr dial: ‪(US) +1 601-869-6045‬ PIN: ‪245 789 704‬#
URL:https://harneyesd.k12.or.us/event/harney-esd-board-meeting-3/
LOCATION:Harney ESD\, 25 Fairview Heights Loop\, Burns\, Oregon\, 97720\, United States
END:VEVENT
BEGIN:VEVENT
DTSTART;TZID=UTC:20241008T190000
DTEND;TZID=UTC:20241008T200000
DTSTAMP:20260419T105556
CREATED:20221012T030938Z
LAST-MODIFIED:20240621T204231Z
UID:10000523-1728414000-1728417600@harneyesd.k12.or.us
SUMMARY:Pine Creek School Board Meeting
DESCRIPTION:
URL:https://harneyesd.k12.or.us/event/pine-creek-school-board-meeting/2024-10-08/
LOCATION:Pine Creek Elementary School
CATEGORIES:Board Meeting
END:VEVENT
BEGIN:VEVENT
DTSTART;TZID=UTC:20241003T190000
DTEND;TZID=UTC:20241003T210000
DTSTAMP:20260419T105556
CREATED:20220831T031756Z
LAST-MODIFIED:20240730T210538Z
UID:10000387-1727982000-1727989200@harneyesd.k12.or.us
SUMMARY:Suntex School Board Meeting
DESCRIPTION:
URL:https://harneyesd.k12.or.us/event/suntex-board-meeting/2024-10-03/
CATEGORIES:Board Meeting
END:VEVENT
BEGIN:VEVENT
DTSTART;TZID=UTC:20240918T190000
DTEND;TZID=UTC:20240918T200000
DTSTAMP:20260419T105556
CREATED:20220526T115813Z
LAST-MODIFIED:20240621T204426Z
UID:10000603-1726686000-1726689600@harneyesd.k12.or.us
SUMMARY:Double O School Board Meeting
DESCRIPTION:
URL:https://harneyesd.k12.or.us/event/double-o-board-meeting-4/2024-09-18/
LOCATION:Hines\, OR
CATEGORIES:Board Meeting
END:VEVENT
BEGIN:VEVENT
DTSTART;TZID=America/Los_Angeles:20240911T133000
DTEND;TZID=America/Los_Angeles:20240911T150000
DTSTAMP:20260419T105556
CREATED:20240911T193010Z
LAST-MODIFIED:20240911T194418Z
UID:10000724-1726061400-1726066800@harneyesd.k12.or.us
SUMMARY:Harney ESD Board Meeting
DESCRIPTION:Google Meet joining info\nVideo call link: https://meet.google.com/pqz-xgra-psf\nOr dial: ‪(US) +1 601-869-6045‬ PIN: ‪245 789 704‬#
URL:https://harneyesd.k12.or.us/event/harney-esd-2/2024-09-11/
LOCATION:Harney ESD\, 25 Fairview Heights Loop\, Burns\, Oregon\, 97720\, United States
END:VEVENT
END:VCALENDAR