BEGIN:VCALENDAR
VERSION:2.0
PRODID:-//Harney ESD - ECPv6.15.20//NONSGML v1.0//EN
CALSCALE:GREGORIAN
METHOD:PUBLISH
X-WR-CALNAME:Harney ESD
X-ORIGINAL-URL:https://harneyesd.k12.or.us
X-WR-CALDESC:Events for Harney ESD
REFRESH-INTERVAL;VALUE=DURATION:PT1H
X-Robots-Tag:noindex
X-PUBLISHED-TTL:PT1H
BEGIN:VTIMEZONE
TZID:UTC
BEGIN:STANDARD
TZOFFSETFROM:+0000
TZOFFSETTO:+0000
TZNAME:UTC
DTSTART:20270101T000000
END:STANDARD
END:VTIMEZONE
BEGIN:VEVENT
DTSTART;TZID=UTC:20280808T190000
DTEND;TZID=UTC:20280808T200000
DTSTAMP:20260422T155247
CREATED:20221012T030938Z
LAST-MODIFIED:20240621T204231Z
UID:10000667-1849374000-1849377600@harneyesd.k12.or.us
SUMMARY:Pine Creek School Board Meeting
DESCRIPTION:
URL:https://harneyesd.k12.or.us/event/pine-creek-school-board-meeting/2028-08-08/
LOCATION:Pine Creek Elementary School
CATEGORIES:Board Meeting
END:VEVENT
BEGIN:VEVENT
DTSTART;TZID=UTC:20280816T190000
DTEND;TZID=UTC:20280816T200000
DTSTAMP:20260422T155247
CREATED:20220526T115813Z
LAST-MODIFIED:20240621T204426Z
UID:10000690-1850065200-1850068800@harneyesd.k12.or.us
SUMMARY:Double O School Board Meeting
DESCRIPTION:
URL:https://harneyesd.k12.or.us/event/double-o-board-meeting-4/2028-08-16/
LOCATION:Hines\, OR
CATEGORIES:Board Meeting
END:VEVENT
BEGIN:VEVENT
DTSTART;TZID=UTC:20280907T190000
DTEND;TZID=UTC:20280907T210000
DTSTAMP:20260422T155247
CREATED:20220831T031756Z
LAST-MODIFIED:20240730T210538Z
UID:10000656-1851966000-1851973200@harneyesd.k12.or.us
SUMMARY:Suntex School Board Meeting
DESCRIPTION:
URL:https://harneyesd.k12.or.us/event/suntex-board-meeting/2028-09-07/
CATEGORIES:Board Meeting
END:VEVENT
BEGIN:VEVENT
DTSTART;TZID=UTC:20280912T190000
DTEND;TZID=UTC:20280912T200000
DTSTAMP:20260422T155247
CREATED:20221012T030938Z
LAST-MODIFIED:20240621T204231Z
UID:10000668-1852398000-1852401600@harneyesd.k12.or.us
SUMMARY:Pine Creek School Board Meeting
DESCRIPTION:
URL:https://harneyesd.k12.or.us/event/pine-creek-school-board-meeting/2028-09-12/
LOCATION:Pine Creek Elementary School
CATEGORIES:Board Meeting
END:VEVENT
BEGIN:VEVENT
DTSTART;TZID=UTC:20280920T190000
DTEND;TZID=UTC:20280920T200000
DTSTAMP:20260422T155247
CREATED:20220526T115813Z
LAST-MODIFIED:20240621T204426Z
UID:10000691-1853089200-1853092800@harneyesd.k12.or.us
SUMMARY:Double O School Board Meeting
DESCRIPTION:
URL:https://harneyesd.k12.or.us/event/double-o-board-meeting-4/2028-09-20/
LOCATION:Hines\, OR
CATEGORIES:Board Meeting
END:VEVENT
BEGIN:VEVENT
DTSTART;TZID=UTC:20281005T190000
DTEND;TZID=UTC:20281005T210000
DTSTAMP:20260422T155247
CREATED:20220831T031756Z
LAST-MODIFIED:20240730T210538Z
UID:10000657-1854385200-1854392400@harneyesd.k12.or.us
SUMMARY:Suntex School Board Meeting
DESCRIPTION:
URL:https://harneyesd.k12.or.us/event/suntex-board-meeting/2028-10-05/
CATEGORIES:Board Meeting
END:VEVENT
BEGIN:VEVENT
DTSTART;TZID=UTC:20281010T190000
DTEND;TZID=UTC:20281010T200000
DTSTAMP:20260422T155247
CREATED:20221012T030938Z
LAST-MODIFIED:20240621T204231Z
UID:10000669-1854817200-1854820800@harneyesd.k12.or.us
SUMMARY:Pine Creek School Board Meeting
DESCRIPTION:
URL:https://harneyesd.k12.or.us/event/pine-creek-school-board-meeting/2028-10-10/
LOCATION:Pine Creek Elementary School
CATEGORIES:Board Meeting
END:VEVENT
BEGIN:VEVENT
DTSTART;TZID=UTC:20281018T190000
DTEND;TZID=UTC:20281018T200000
DTSTAMP:20260422T155247
CREATED:20220526T115813Z
LAST-MODIFIED:20240621T204426Z
UID:10000692-1855508400-1855512000@harneyesd.k12.or.us
SUMMARY:Double O School Board Meeting
DESCRIPTION:
URL:https://harneyesd.k12.or.us/event/double-o-board-meeting-4/2028-10-18/
LOCATION:Hines\, OR
CATEGORIES:Board Meeting
END:VEVENT
BEGIN:VEVENT
DTSTART;TZID=UTC:20281102T190000
DTEND;TZID=UTC:20281102T210000
DTSTAMP:20260422T155247
CREATED:20220831T031756Z
LAST-MODIFIED:20240730T210538Z
UID:10000658-1856804400-1856811600@harneyesd.k12.or.us
SUMMARY:Suntex School Board Meeting
DESCRIPTION:
URL:https://harneyesd.k12.or.us/event/suntex-board-meeting/2028-11-02/
CATEGORIES:Board Meeting
END:VEVENT
BEGIN:VEVENT
DTSTART;TZID=UTC:20281114T190000
DTEND;TZID=UTC:20281114T200000
DTSTAMP:20260422T155247
CREATED:20221012T030938Z
LAST-MODIFIED:20240621T204231Z
UID:10000670-1857841200-1857844800@harneyesd.k12.or.us
SUMMARY:Pine Creek School Board Meeting
DESCRIPTION:
URL:https://harneyesd.k12.or.us/event/pine-creek-school-board-meeting/2028-11-14/
LOCATION:Pine Creek Elementary School
CATEGORIES:Board Meeting
END:VEVENT
BEGIN:VEVENT
DTSTART;TZID=UTC:20281115T190000
DTEND;TZID=UTC:20281115T200000
DTSTAMP:20260422T155247
CREATED:20220526T115813Z
LAST-MODIFIED:20240621T204426Z
UID:10000693-1857927600-1857931200@harneyesd.k12.or.us
SUMMARY:Double O School Board Meeting
DESCRIPTION:
URL:https://harneyesd.k12.or.us/event/double-o-board-meeting-4/2028-11-15/
LOCATION:Hines\, OR
CATEGORIES:Board Meeting
END:VEVENT
BEGIN:VEVENT
DTSTART;TZID=UTC:20281207T190000
DTEND;TZID=UTC:20281207T210000
DTSTAMP:20260422T155247
CREATED:20220831T031756Z
LAST-MODIFIED:20240730T210538Z
UID:10000659-1859828400-1859835600@harneyesd.k12.or.us
SUMMARY:Suntex School Board Meeting
DESCRIPTION:
URL:https://harneyesd.k12.or.us/event/suntex-board-meeting/2028-12-07/
CATEGORIES:Board Meeting
END:VEVENT
BEGIN:VEVENT
DTSTART;TZID=UTC:20281212T190000
DTEND;TZID=UTC:20281212T200000
DTSTAMP:20260422T155247
CREATED:20221012T030938Z
LAST-MODIFIED:20240621T204231Z
UID:10000671-1860260400-1860264000@harneyesd.k12.or.us
SUMMARY:Pine Creek School Board Meeting
DESCRIPTION:
URL:https://harneyesd.k12.or.us/event/pine-creek-school-board-meeting/2028-12-12/
LOCATION:Pine Creek Elementary School
CATEGORIES:Board Meeting
END:VEVENT
BEGIN:VEVENT
DTSTART;TZID=UTC:20281220T190000
DTEND;TZID=UTC:20281220T200000
DTSTAMP:20260422T155247
CREATED:20220526T115813Z
LAST-MODIFIED:20240621T204426Z
UID:10000694-1860951600-1860955200@harneyesd.k12.or.us
SUMMARY:Double O School Board Meeting
DESCRIPTION:
URL:https://harneyesd.k12.or.us/event/double-o-board-meeting-4/2028-12-20/
LOCATION:Hines\, OR
CATEGORIES:Board Meeting
END:VEVENT
BEGIN:VEVENT
DTSTART;TZID=UTC:20290104T190000
DTEND;TZID=UTC:20290104T210000
DTSTAMP:20260422T155247
CREATED:20220831T031756Z
LAST-MODIFIED:20240730T210538Z
UID:10000660-1862247600-1862254800@harneyesd.k12.or.us
SUMMARY:Suntex School Board Meeting
DESCRIPTION:
URL:https://harneyesd.k12.or.us/event/suntex-board-meeting/2029-01-04/
CATEGORIES:Board Meeting
END:VEVENT
BEGIN:VEVENT
DTSTART;TZID=UTC:20290109T190000
DTEND;TZID=UTC:20290109T200000
DTSTAMP:20260422T155247
CREATED:20221012T030938Z
LAST-MODIFIED:20240621T204231Z
UID:10000672-1862679600-1862683200@harneyesd.k12.or.us
SUMMARY:Pine Creek School Board Meeting
DESCRIPTION:
URL:https://harneyesd.k12.or.us/event/pine-creek-school-board-meeting/2029-01-09/
LOCATION:Pine Creek Elementary School
CATEGORIES:Board Meeting
END:VEVENT
BEGIN:VEVENT
DTSTART;TZID=UTC:20290117T190000
DTEND;TZID=UTC:20290117T200000
DTSTAMP:20260422T155247
CREATED:20220526T115813Z
LAST-MODIFIED:20240621T204426Z
UID:10000695-1863370800-1863374400@harneyesd.k12.or.us
SUMMARY:Double O School Board Meeting
DESCRIPTION:
URL:https://harneyesd.k12.or.us/event/double-o-board-meeting-4/2029-01-17/
LOCATION:Hines\, OR
CATEGORIES:Board Meeting
END:VEVENT
BEGIN:VEVENT
DTSTART;TZID=UTC:20290201T190000
DTEND;TZID=UTC:20290201T210000
DTSTAMP:20260422T155247
CREATED:20220831T031756Z
LAST-MODIFIED:20240730T210538Z
UID:10000661-1864666800-1864674000@harneyesd.k12.or.us
SUMMARY:Suntex School Board Meeting
DESCRIPTION:
URL:https://harneyesd.k12.or.us/event/suntex-board-meeting/2029-02-01/
CATEGORIES:Board Meeting
END:VEVENT
BEGIN:VEVENT
DTSTART;TZID=UTC:20290213T190000
DTEND;TZID=UTC:20290213T200000
DTSTAMP:20260422T155247
CREATED:20221012T030938Z
LAST-MODIFIED:20240621T204231Z
UID:10000673-1865703600-1865707200@harneyesd.k12.or.us
SUMMARY:Pine Creek School Board Meeting
DESCRIPTION:
URL:https://harneyesd.k12.or.us/event/pine-creek-school-board-meeting/2029-02-13/
LOCATION:Pine Creek Elementary School
CATEGORIES:Board Meeting
END:VEVENT
BEGIN:VEVENT
DTSTART;TZID=UTC:20290221T190000
DTEND;TZID=UTC:20290221T200000
DTSTAMP:20260422T155247
CREATED:20220526T115813Z
LAST-MODIFIED:20240621T204426Z
UID:10000696-1866394800-1866398400@harneyesd.k12.or.us
SUMMARY:Double O School Board Meeting
DESCRIPTION:
URL:https://harneyesd.k12.or.us/event/double-o-board-meeting-4/2029-02-21/
LOCATION:Hines\, OR
CATEGORIES:Board Meeting
END:VEVENT
BEGIN:VEVENT
DTSTART;TZID=UTC:20290301T190000
DTEND;TZID=UTC:20290301T210000
DTSTAMP:20260422T155247
CREATED:20220831T031756Z
LAST-MODIFIED:20240730T210538Z
UID:10000662-1867086000-1867093200@harneyesd.k12.or.us
SUMMARY:Suntex School Board Meeting
DESCRIPTION:
URL:https://harneyesd.k12.or.us/event/suntex-board-meeting/2029-03-01/
CATEGORIES:Board Meeting
END:VEVENT
BEGIN:VEVENT
DTSTART;TZID=UTC:20290313T190000
DTEND;TZID=UTC:20290313T200000
DTSTAMP:20260422T155247
CREATED:20221012T030938Z
LAST-MODIFIED:20240621T204231Z
UID:10000674-1868122800-1868126400@harneyesd.k12.or.us
SUMMARY:Pine Creek School Board Meeting
DESCRIPTION:
URL:https://harneyesd.k12.or.us/event/pine-creek-school-board-meeting/2029-03-13/
LOCATION:Pine Creek Elementary School
CATEGORIES:Board Meeting
END:VEVENT
BEGIN:VEVENT
DTSTART;TZID=UTC:20290321T190000
DTEND;TZID=UTC:20290321T200000
DTSTAMP:20260422T155247
CREATED:20220526T115813Z
LAST-MODIFIED:20240621T204426Z
UID:10000697-1868814000-1868817600@harneyesd.k12.or.us
SUMMARY:Double O School Board Meeting
DESCRIPTION:
URL:https://harneyesd.k12.or.us/event/double-o-board-meeting-4/2029-03-21/
LOCATION:Hines\, OR
CATEGORIES:Board Meeting
END:VEVENT
BEGIN:VEVENT
DTSTART;TZID=UTC:20290405T190000
DTEND;TZID=UTC:20290405T210000
DTSTAMP:20260422T155247
CREATED:20220831T031756Z
LAST-MODIFIED:20240730T210538Z
UID:10000663-1870110000-1870117200@harneyesd.k12.or.us
SUMMARY:Suntex School Board Meeting
DESCRIPTION:
URL:https://harneyesd.k12.or.us/event/suntex-board-meeting/2029-04-05/
CATEGORIES:Board Meeting
END:VEVENT
BEGIN:VEVENT
DTSTART;TZID=UTC:20290410T190000
DTEND;TZID=UTC:20290410T200000
DTSTAMP:20260422T155247
CREATED:20221012T030938Z
LAST-MODIFIED:20240621T204231Z
UID:10000675-1870542000-1870545600@harneyesd.k12.or.us
SUMMARY:Pine Creek School Board Meeting
DESCRIPTION:
URL:https://harneyesd.k12.or.us/event/pine-creek-school-board-meeting/2029-04-10/
LOCATION:Pine Creek Elementary School
CATEGORIES:Board Meeting
END:VEVENT
BEGIN:VEVENT
DTSTART;TZID=UTC:20290418T190000
DTEND;TZID=UTC:20290418T200000
DTSTAMP:20260422T155247
CREATED:20220526T115813Z
LAST-MODIFIED:20240621T204426Z
UID:10000698-1871233200-1871236800@harneyesd.k12.or.us
SUMMARY:Double O School Board Meeting
DESCRIPTION:
URL:https://harneyesd.k12.or.us/event/double-o-board-meeting-4/2029-04-18/
LOCATION:Hines\, OR
CATEGORIES:Board Meeting
END:VEVENT
BEGIN:VEVENT
DTSTART;TZID=UTC:20290503T190000
DTEND;TZID=UTC:20290503T210000
DTSTAMP:20260422T155247
CREATED:20220831T031756Z
LAST-MODIFIED:20240730T210538Z
UID:10000664-1872529200-1872536400@harneyesd.k12.or.us
SUMMARY:Suntex School Board Meeting
DESCRIPTION:
URL:https://harneyesd.k12.or.us/event/suntex-board-meeting/2029-05-03/
CATEGORIES:Board Meeting
END:VEVENT
BEGIN:VEVENT
DTSTART;TZID=UTC:20290508T190000
DTEND;TZID=UTC:20290508T200000
DTSTAMP:20260422T155247
CREATED:20221012T030938Z
LAST-MODIFIED:20240621T204231Z
UID:10000676-1872961200-1872964800@harneyesd.k12.or.us
SUMMARY:Pine Creek School Board Meeting
DESCRIPTION:
URL:https://harneyesd.k12.or.us/event/pine-creek-school-board-meeting/2029-05-08/
LOCATION:Pine Creek Elementary School
CATEGORIES:Board Meeting
END:VEVENT
BEGIN:VEVENT
DTSTART;TZID=UTC:20290516T190000
DTEND;TZID=UTC:20290516T200000
DTSTAMP:20260422T155247
CREATED:20220526T115813Z
LAST-MODIFIED:20240621T204426Z
UID:10000699-1873652400-1873656000@harneyesd.k12.or.us
SUMMARY:Double O School Board Meeting
DESCRIPTION:
URL:https://harneyesd.k12.or.us/event/double-o-board-meeting-4/2029-05-16/
LOCATION:Hines\, OR
CATEGORIES:Board Meeting
END:VEVENT
BEGIN:VEVENT
DTSTART;TZID=UTC:20290607T190000
DTEND;TZID=UTC:20290607T210000
DTSTAMP:20260422T155247
CREATED:20220831T031756Z
LAST-MODIFIED:20240730T210538Z
UID:10000665-1875553200-1875560400@harneyesd.k12.or.us
SUMMARY:Suntex School Board Meeting
DESCRIPTION:
URL:https://harneyesd.k12.or.us/event/suntex-board-meeting/2029-06-07/
CATEGORIES:Board Meeting
END:VEVENT
END:VCALENDAR