BEGIN:VCALENDAR
VERSION:2.0
PRODID:-//Harney ESD - ECPv6.15.20//NONSGML v1.0//EN
CALSCALE:GREGORIAN
METHOD:PUBLISH
X-WR-CALNAME:Harney ESD
X-ORIGINAL-URL:https://harneyesd.k12.or.us
X-WR-CALDESC:Events for Harney ESD
REFRESH-INTERVAL;VALUE=DURATION:PT1H
X-Robots-Tag:noindex
X-PUBLISHED-TTL:PT1H
BEGIN:VTIMEZONE
TZID:UTC
BEGIN:STANDARD
TZOFFSETFROM:+0000
TZOFFSETTO:+0000
TZNAME:UTC
DTSTART:20250101T000000
END:STANDARD
END:VTIMEZONE
BEGIN:VEVENT
DTSTART;TZID=UTC:20260903T190000
DTEND;TZID=UTC:20260903T210000
DTSTAMP:20260419T130215
CREATED:20220831T031756Z
LAST-MODIFIED:20240730T210538Z
UID:10000410-1788462000-1788469200@harneyesd.k12.or.us
SUMMARY:Suntex School Board Meeting
DESCRIPTION:
URL:https://harneyesd.k12.or.us/event/suntex-board-meeting/2026-09-03/
CATEGORIES:Board Meeting
END:VEVENT
BEGIN:VEVENT
DTSTART;TZID=UTC:20260908T190000
DTEND;TZID=UTC:20260908T200000
DTSTAMP:20260419T130215
CREATED:20221012T030938Z
LAST-MODIFIED:20240621T204231Z
UID:10000546-1788894000-1788897600@harneyesd.k12.or.us
SUMMARY:Pine Creek School Board Meeting
DESCRIPTION:
URL:https://harneyesd.k12.or.us/event/pine-creek-school-board-meeting/2026-09-08/
LOCATION:Pine Creek Elementary School
CATEGORIES:Board Meeting
END:VEVENT
BEGIN:VEVENT
DTSTART;TZID=UTC:20260916T190000
DTEND;TZID=UTC:20260916T200000
DTSTAMP:20260419T130215
CREATED:20220526T115813Z
LAST-MODIFIED:20240621T204426Z
UID:10000627-1789585200-1789588800@harneyesd.k12.or.us
SUMMARY:Double O School Board Meeting
DESCRIPTION:
URL:https://harneyesd.k12.or.us/event/double-o-board-meeting-4/2026-09-16/
LOCATION:Hines\, OR
CATEGORIES:Board Meeting
END:VEVENT
BEGIN:VEVENT
DTSTART;TZID=UTC:20261001T190000
DTEND;TZID=UTC:20261001T210000
DTSTAMP:20260419T130215
CREATED:20220831T031756Z
LAST-MODIFIED:20240730T210538Z
UID:10000411-1790881200-1790888400@harneyesd.k12.or.us
SUMMARY:Suntex School Board Meeting
DESCRIPTION:
URL:https://harneyesd.k12.or.us/event/suntex-board-meeting/2026-10-01/
CATEGORIES:Board Meeting
END:VEVENT
BEGIN:VEVENT
DTSTART;TZID=UTC:20261013T190000
DTEND;TZID=UTC:20261013T200000
DTSTAMP:20260419T130215
CREATED:20221012T030938Z
LAST-MODIFIED:20240621T204231Z
UID:10000547-1791918000-1791921600@harneyesd.k12.or.us
SUMMARY:Pine Creek School Board Meeting
DESCRIPTION:
URL:https://harneyesd.k12.or.us/event/pine-creek-school-board-meeting/2026-10-13/
LOCATION:Pine Creek Elementary School
CATEGORIES:Board Meeting
END:VEVENT
BEGIN:VEVENT
DTSTART;TZID=UTC:20261021T190000
DTEND;TZID=UTC:20261021T200000
DTSTAMP:20260419T130215
CREATED:20220526T115813Z
LAST-MODIFIED:20240621T204426Z
UID:10000628-1792609200-1792612800@harneyesd.k12.or.us
SUMMARY:Double O School Board Meeting
DESCRIPTION:
URL:https://harneyesd.k12.or.us/event/double-o-board-meeting-4/2026-10-21/
LOCATION:Hines\, OR
CATEGORIES:Board Meeting
END:VEVENT
BEGIN:VEVENT
DTSTART;TZID=UTC:20261105T190000
DTEND;TZID=UTC:20261105T210000
DTSTAMP:20260419T130215
CREATED:20220831T031756Z
LAST-MODIFIED:20240730T210538Z
UID:10000412-1793905200-1793912400@harneyesd.k12.or.us
SUMMARY:Suntex School Board Meeting
DESCRIPTION:
URL:https://harneyesd.k12.or.us/event/suntex-board-meeting/2026-11-05/
CATEGORIES:Board Meeting
END:VEVENT
BEGIN:VEVENT
DTSTART;TZID=UTC:20261110T190000
DTEND;TZID=UTC:20261110T200000
DTSTAMP:20260419T130215
CREATED:20221012T030938Z
LAST-MODIFIED:20240621T204231Z
UID:10000548-1794337200-1794340800@harneyesd.k12.or.us
SUMMARY:Pine Creek School Board Meeting
DESCRIPTION:
URL:https://harneyesd.k12.or.us/event/pine-creek-school-board-meeting/2026-11-10/
LOCATION:Pine Creek Elementary School
CATEGORIES:Board Meeting
END:VEVENT
BEGIN:VEVENT
DTSTART;TZID=UTC:20261118T190000
DTEND;TZID=UTC:20261118T200000
DTSTAMP:20260419T130215
CREATED:20220526T115813Z
LAST-MODIFIED:20240621T204426Z
UID:10000629-1795028400-1795032000@harneyesd.k12.or.us
SUMMARY:Double O School Board Meeting
DESCRIPTION:
URL:https://harneyesd.k12.or.us/event/double-o-board-meeting-4/2026-11-18/
LOCATION:Hines\, OR
CATEGORIES:Board Meeting
END:VEVENT
BEGIN:VEVENT
DTSTART;TZID=UTC:20261203T190000
DTEND;TZID=UTC:20261203T210000
DTSTAMP:20260419T130215
CREATED:20220831T031756Z
LAST-MODIFIED:20240730T210538Z
UID:10000413-1796324400-1796331600@harneyesd.k12.or.us
SUMMARY:Suntex School Board Meeting
DESCRIPTION:
URL:https://harneyesd.k12.or.us/event/suntex-board-meeting/2026-12-03/
CATEGORIES:Board Meeting
END:VEVENT
BEGIN:VEVENT
DTSTART;TZID=UTC:20261208T190000
DTEND;TZID=UTC:20261208T200000
DTSTAMP:20260419T130215
CREATED:20221012T030938Z
LAST-MODIFIED:20240621T204231Z
UID:10000549-1796756400-1796760000@harneyesd.k12.or.us
SUMMARY:Pine Creek School Board Meeting
DESCRIPTION:
URL:https://harneyesd.k12.or.us/event/pine-creek-school-board-meeting/2026-12-08/
LOCATION:Pine Creek Elementary School
CATEGORIES:Board Meeting
END:VEVENT
BEGIN:VEVENT
DTSTART;TZID=UTC:20261216T190000
DTEND;TZID=UTC:20261216T200000
DTSTAMP:20260419T130215
CREATED:20220526T115813Z
LAST-MODIFIED:20240621T204426Z
UID:10000630-1797447600-1797451200@harneyesd.k12.or.us
SUMMARY:Double O School Board Meeting
DESCRIPTION:
URL:https://harneyesd.k12.or.us/event/double-o-board-meeting-4/2026-12-16/
LOCATION:Hines\, OR
CATEGORIES:Board Meeting
END:VEVENT
BEGIN:VEVENT
DTSTART;TZID=UTC:20270107T190000
DTEND;TZID=UTC:20270107T210000
DTSTAMP:20260419T130215
CREATED:20220831T031756Z
LAST-MODIFIED:20240730T210538Z
UID:10000414-1799348400-1799355600@harneyesd.k12.or.us
SUMMARY:Suntex School Board Meeting
DESCRIPTION:
URL:https://harneyesd.k12.or.us/event/suntex-board-meeting/2027-01-07/
CATEGORIES:Board Meeting
END:VEVENT
BEGIN:VEVENT
DTSTART;TZID=UTC:20270112T190000
DTEND;TZID=UTC:20270112T200000
DTSTAMP:20260419T130215
CREATED:20221012T030938Z
LAST-MODIFIED:20240621T204231Z
UID:10000550-1799780400-1799784000@harneyesd.k12.or.us
SUMMARY:Pine Creek School Board Meeting
DESCRIPTION:
URL:https://harneyesd.k12.or.us/event/pine-creek-school-board-meeting/2027-01-12/
LOCATION:Pine Creek Elementary School
CATEGORIES:Board Meeting
END:VEVENT
BEGIN:VEVENT
DTSTART;TZID=UTC:20270120T190000
DTEND;TZID=UTC:20270120T200000
DTSTAMP:20260419T130215
CREATED:20220526T115813Z
LAST-MODIFIED:20240621T204426Z
UID:10000631-1800471600-1800475200@harneyesd.k12.or.us
SUMMARY:Double O School Board Meeting
DESCRIPTION:
URL:https://harneyesd.k12.or.us/event/double-o-board-meeting-4/2027-01-20/
LOCATION:Hines\, OR
CATEGORIES:Board Meeting
END:VEVENT
BEGIN:VEVENT
DTSTART;TZID=UTC:20270204T190000
DTEND;TZID=UTC:20270204T210000
DTSTAMP:20260419T130215
CREATED:20220831T031756Z
LAST-MODIFIED:20240730T210538Z
UID:10000415-1801767600-1801774800@harneyesd.k12.or.us
SUMMARY:Suntex School Board Meeting
DESCRIPTION:
URL:https://harneyesd.k12.or.us/event/suntex-board-meeting/2027-02-04/
CATEGORIES:Board Meeting
END:VEVENT
BEGIN:VEVENT
DTSTART;TZID=UTC:20270209T190000
DTEND;TZID=UTC:20270209T200000
DTSTAMP:20260419T130215
CREATED:20221012T030938Z
LAST-MODIFIED:20240621T204231Z
UID:10000551-1802199600-1802203200@harneyesd.k12.or.us
SUMMARY:Pine Creek School Board Meeting
DESCRIPTION:
URL:https://harneyesd.k12.or.us/event/pine-creek-school-board-meeting/2027-02-09/
LOCATION:Pine Creek Elementary School
CATEGORIES:Board Meeting
END:VEVENT
BEGIN:VEVENT
DTSTART;TZID=UTC:20270217T190000
DTEND;TZID=UTC:20270217T200000
DTSTAMP:20260419T130215
CREATED:20220526T115813Z
LAST-MODIFIED:20240621T204426Z
UID:10000632-1802890800-1802894400@harneyesd.k12.or.us
SUMMARY:Double O School Board Meeting
DESCRIPTION:
URL:https://harneyesd.k12.or.us/event/double-o-board-meeting-4/2027-02-17/
LOCATION:Hines\, OR
CATEGORIES:Board Meeting
END:VEVENT
BEGIN:VEVENT
DTSTART;TZID=UTC:20270304T190000
DTEND;TZID=UTC:20270304T210000
DTSTAMP:20260419T130215
CREATED:20220831T031756Z
LAST-MODIFIED:20240730T210538Z
UID:10000416-1804186800-1804194000@harneyesd.k12.or.us
SUMMARY:Suntex School Board Meeting
DESCRIPTION:
URL:https://harneyesd.k12.or.us/event/suntex-board-meeting/2027-03-04/
CATEGORIES:Board Meeting
END:VEVENT
BEGIN:VEVENT
DTSTART;TZID=UTC:20270309T190000
DTEND;TZID=UTC:20270309T200000
DTSTAMP:20260419T130215
CREATED:20221012T030938Z
LAST-MODIFIED:20240621T204231Z
UID:10000552-1804618800-1804622400@harneyesd.k12.or.us
SUMMARY:Pine Creek School Board Meeting
DESCRIPTION:
URL:https://harneyesd.k12.or.us/event/pine-creek-school-board-meeting/2027-03-09/
LOCATION:Pine Creek Elementary School
CATEGORIES:Board Meeting
END:VEVENT
BEGIN:VEVENT
DTSTART;TZID=UTC:20270317T190000
DTEND;TZID=UTC:20270317T200000
DTSTAMP:20260419T130215
CREATED:20220526T115813Z
LAST-MODIFIED:20240621T204426Z
UID:10000633-1805310000-1805313600@harneyesd.k12.or.us
SUMMARY:Double O School Board Meeting
DESCRIPTION:
URL:https://harneyesd.k12.or.us/event/double-o-board-meeting-4/2027-03-17/
LOCATION:Hines\, OR
CATEGORIES:Board Meeting
END:VEVENT
BEGIN:VEVENT
DTSTART;TZID=UTC:20270401T190000
DTEND;TZID=UTC:20270401T210000
DTSTAMP:20260419T130215
CREATED:20220831T031756Z
LAST-MODIFIED:20240730T210538Z
UID:10000417-1806606000-1806613200@harneyesd.k12.or.us
SUMMARY:Suntex School Board Meeting
DESCRIPTION:
URL:https://harneyesd.k12.or.us/event/suntex-board-meeting/2027-04-01/
CATEGORIES:Board Meeting
END:VEVENT
BEGIN:VEVENT
DTSTART;TZID=UTC:20270413T190000
DTEND;TZID=UTC:20270413T200000
DTSTAMP:20260419T130215
CREATED:20221012T030938Z
LAST-MODIFIED:20240621T204231Z
UID:10000553-1807642800-1807646400@harneyesd.k12.or.us
SUMMARY:Pine Creek School Board Meeting
DESCRIPTION:
URL:https://harneyesd.k12.or.us/event/pine-creek-school-board-meeting/2027-04-13/
LOCATION:Pine Creek Elementary School
CATEGORIES:Board Meeting
END:VEVENT
BEGIN:VEVENT
DTSTART;TZID=UTC:20270421T190000
DTEND;TZID=UTC:20270421T200000
DTSTAMP:20260419T130215
CREATED:20220526T115813Z
LAST-MODIFIED:20240621T204426Z
UID:10000634-1808334000-1808337600@harneyesd.k12.or.us
SUMMARY:Double O School Board Meeting
DESCRIPTION:
URL:https://harneyesd.k12.or.us/event/double-o-board-meeting-4/2027-04-21/
LOCATION:Hines\, OR
CATEGORIES:Board Meeting
END:VEVENT
BEGIN:VEVENT
DTSTART;TZID=UTC:20270506T190000
DTEND;TZID=UTC:20270506T210000
DTSTAMP:20260419T130215
CREATED:20220831T031756Z
LAST-MODIFIED:20240730T210538Z
UID:10000418-1809630000-1809637200@harneyesd.k12.or.us
SUMMARY:Suntex School Board Meeting
DESCRIPTION:
URL:https://harneyesd.k12.or.us/event/suntex-board-meeting/2027-05-06/
CATEGORIES:Board Meeting
END:VEVENT
BEGIN:VEVENT
DTSTART;TZID=UTC:20270511T190000
DTEND;TZID=UTC:20270511T200000
DTSTAMP:20260419T130215
CREATED:20221012T030938Z
LAST-MODIFIED:20240621T204231Z
UID:10000554-1810062000-1810065600@harneyesd.k12.or.us
SUMMARY:Pine Creek School Board Meeting
DESCRIPTION:
URL:https://harneyesd.k12.or.us/event/pine-creek-school-board-meeting/2027-05-11/
LOCATION:Pine Creek Elementary School
CATEGORIES:Board Meeting
END:VEVENT
BEGIN:VEVENT
DTSTART;TZID=UTC:20270519T190000
DTEND;TZID=UTC:20270519T200000
DTSTAMP:20260419T130215
CREATED:20220526T115813Z
LAST-MODIFIED:20240621T204426Z
UID:10000635-1810753200-1810756800@harneyesd.k12.or.us
SUMMARY:Double O School Board Meeting
DESCRIPTION:
URL:https://harneyesd.k12.or.us/event/double-o-board-meeting-4/2027-05-19/
LOCATION:Hines\, OR
CATEGORIES:Board Meeting
END:VEVENT
BEGIN:VEVENT
DTSTART;TZID=UTC:20270603T190000
DTEND;TZID=UTC:20270603T210000
DTSTAMP:20260419T130215
CREATED:20220831T031756Z
LAST-MODIFIED:20240730T210538Z
UID:10000419-1812049200-1812056400@harneyesd.k12.or.us
SUMMARY:Suntex School Board Meeting
DESCRIPTION:
URL:https://harneyesd.k12.or.us/event/suntex-board-meeting/2027-06-03/
CATEGORIES:Board Meeting
END:VEVENT
BEGIN:VEVENT
DTSTART;TZID=UTC:20270608T190000
DTEND;TZID=UTC:20270608T200000
DTSTAMP:20260419T130215
CREATED:20221012T030938Z
LAST-MODIFIED:20240621T204231Z
UID:10000555-1812481200-1812484800@harneyesd.k12.or.us
SUMMARY:Pine Creek School Board Meeting
DESCRIPTION:
URL:https://harneyesd.k12.or.us/event/pine-creek-school-board-meeting/2027-06-08/
LOCATION:Pine Creek Elementary School
CATEGORIES:Board Meeting
END:VEVENT
BEGIN:VEVENT
DTSTART;TZID=UTC:20270616T190000
DTEND;TZID=UTC:20270616T200000
DTSTAMP:20260419T130215
CREATED:20220526T115813Z
LAST-MODIFIED:20240621T204426Z
UID:10000636-1813172400-1813176000@harneyesd.k12.or.us
SUMMARY:Double O School Board Meeting
DESCRIPTION:
URL:https://harneyesd.k12.or.us/event/double-o-board-meeting-4/2027-06-16/
LOCATION:Hines\, OR
CATEGORIES:Board Meeting
END:VEVENT
END:VCALENDAR