BEGIN:VCALENDAR
VERSION:2.0
PRODID:-//Harney ESD - ECPv6.15.20//NONSGML v1.0//EN
CALSCALE:GREGORIAN
METHOD:PUBLISH
X-ORIGINAL-URL:https://harneyesd.k12.or.us
X-WR-CALDESC:Events for Harney ESD
REFRESH-INTERVAL;VALUE=DURATION:PT1H
X-Robots-Tag:noindex
X-PUBLISHED-TTL:PT1H
BEGIN:VTIMEZONE
TZID:America/Los_Angeles
BEGIN:DAYLIGHT
TZOFFSETFROM:-0800
TZOFFSETTO:-0700
TZNAME:PDT
DTSTART:20240310T100000
END:DAYLIGHT
BEGIN:STANDARD
TZOFFSETFROM:-0700
TZOFFSETTO:-0800
TZNAME:PST
DTSTART:20241103T090000
END:STANDARD
BEGIN:DAYLIGHT
TZOFFSETFROM:-0800
TZOFFSETTO:-0700
TZNAME:PDT
DTSTART:20250309T100000
END:DAYLIGHT
BEGIN:STANDARD
TZOFFSETFROM:-0700
TZOFFSETTO:-0800
TZNAME:PST
DTSTART:20251102T090000
END:STANDARD
BEGIN:DAYLIGHT
TZOFFSETFROM:-0800
TZOFFSETTO:-0700
TZNAME:PDT
DTSTART:20260308T100000
END:DAYLIGHT
BEGIN:STANDARD
TZOFFSETFROM:-0700
TZOFFSETTO:-0800
TZNAME:PST
DTSTART:20261101T090000
END:STANDARD
END:VTIMEZONE
BEGIN:VEVENT
DTSTART;TZID=America/Los_Angeles:20250514T123000
DTEND;TZID=America/Los_Angeles:20250514T133000
DTSTAMP:20260421T041402
CREATED:20250416T165312Z
LAST-MODIFIED:20250416T165312Z
UID:10000856-1747225800-1747229400@harneyesd.k12.or.us
SUMMARY:Harney ESD Budget Board Meeting
DESCRIPTION:
URL:https://harneyesd.k12.or.us/event/harney-esd-budget-board-meeting-3/
LOCATION:Harney ESD\, 25 Fairview Heights Loop\, Burns\, Oregon\, 97720\, United States
END:VEVENT
BEGIN:VEVENT
DTSTART;TZID=America/Los_Angeles:20250514T133000
DTEND;TZID=America/Los_Angeles:20250514T150000
DTSTAMP:20260421T041402
CREATED:20240911T193010Z
LAST-MODIFIED:20240911T194418Z
UID:10000790-1747229400-1747234800@harneyesd.k12.or.us
SUMMARY:Harney ESD Board Meeting
DESCRIPTION:Google Meet joining info\nVideo call link: https://meet.google.com/pqz-xgra-psf\nOr dial: ‪(US) +1 601-869-6045‬ PIN: ‪245 789 704‬#
URL:https://harneyesd.k12.or.us/event/harney-esd-2/2025-05-14/
LOCATION:Harney ESD\, 25 Fairview Heights Loop\, Burns\, Oregon\, 97720\, United States
END:VEVENT
END:VCALENDAR